BEGIN:VCALENDAR
VERSION:2.0
PRODID:-//PIANYC - ECPv5.12.4//NONSGML v1.0//EN
CALSCALE:GREGORIAN
METHOD:PUBLISH
X-WR-CALNAME:PIANYC
X-ORIGINAL-URL:https://www.pianyc.net
X-WR-CALDESC:Events for PIANYC
BEGIN:VTIMEZONE
TZID:America/New_York
BEGIN:DAYLIGHT
TZOFFSETFROM:-0500
TZOFFSETTO:-0400
TZNAME:EDT
DTSTART:20240310T070000
END:DAYLIGHT
BEGIN:STANDARD
TZOFFSETFROM:-0400
TZOFFSETTO:-0500
TZNAME:EST
DTSTART:20241103T060000
END:STANDARD
END:VTIMEZONE
BEGIN:VEVENT
DTSTART;TZID=America/New_York:20240605T180000
DTEND;TZID=America/New_York:20240605T200000
DTSTAMP:20260421T120026
CREATED:20240530T174002Z
LAST-MODIFIED:20240801T181106Z
UID:167221-1717610400-1717617600@www.pianyc.net
SUMMARY:Grinberg Classical Salon Series: Czech Piano Trios I
DESCRIPTION:JESSICA TASKOV\, flute\nNATHAN WHITTAKER\, cello\nYELENA GRINBERG\, piano \nSUK – Ballade in D minor for cello and piano\, op. 3 (1890)\nDVORAK – Romance in F minor for flute and piano\, op. 11 (1879)\nDUSSEK – Trio in F Major for piano\, flute\, and cello\, op. 65 (1807)\nHUMMEL – Trio in A Major for piano\, flute\, and cello\, op. 78 (1819)\nMARTINU – Trio for flute\, cello and piano\, H. 300 (1944) \nTo learn more and to register\, contact Dr. Yelena Grinberg at ygpiano (at) gmail.com
URL:https://www.pianyc.net/event/grinberg-classical-salon-czech-piano-trios-i/2024-06-05/
LOCATION:Grinberg Classical Salon\, Upper West Side\, New York\, NY\, United States
CATEGORIES:Live Musical Performance
ATTACH;FMTTYPE=image/jpeg:https://www.pianyc.net/wp-content/uploads/2024/05/grinberg_czech_trios.jpg
GEO:40.7870106;-73.9753676
X-APPLE-STRUCTURED-LOCATION;VALUE=URI;X-ADDRESS=Grinberg Classical Salon Upper West Side New York NY United States;X-APPLE-RADIUS=500;X-TITLE=Upper West Side:geo:-73.9753676,40.7870106
END:VEVENT
END:VCALENDAR