BEGIN:VCALENDAR
VERSION:2.0
PRODID:-//PIANYC - ECPv5.12.4//NONSGML v1.0//EN
CALSCALE:GREGORIAN
METHOD:PUBLISH
X-WR-CALNAME:PIANYC
X-ORIGINAL-URL:https://www.pianyc.net
X-WR-CALDESC:Events for PIANYC
BEGIN:VTIMEZONE
TZID:America/New_York
BEGIN:DAYLIGHT
TZOFFSETFROM:-0500
TZOFFSETTO:-0400
TZNAME:EDT
DTSTART:20240310T070000
END:DAYLIGHT
BEGIN:STANDARD
TZOFFSETFROM:-0400
TZOFFSETTO:-0500
TZNAME:EST
DTSTART:20241103T060000
END:STANDARD
END:VTIMEZONE
BEGIN:VEVENT
DTSTART;TZID=America/New_York:20240310T200000
DTEND;TZID=America/New_York:20240310T223000
DTSTAMP:20260419T120615
CREATED:20240121T182349Z
LAST-MODIFIED:20240121T182349Z
UID:160055-1710100800-1710109800@www.pianyc.net
SUMMARY:Gonzalo Rubalcaba & Aymée Nuviola Duo (Early & Late Shows) at Blue Note Jazz Club
DESCRIPTION:Show 1 – 8:00pm \nShow 2 – 10:30pm \nIn 1999\, the multi-Grammy® Winner\, pianist\, and composer Gonzalo Rubalcaba was selected by Piano & Keyboard Magazine as one of the great pianists of the 20th century\, alongside figures such as Glenn Gould\, Martha Argerich and Bill Evans. He has won three Grammys® and Three Latin Grammys\, 18 Grammys nominations and EMPIK Bestsellers. All of which has established him as a creative force in the jazz world. \nHe was born on May 27\, 1963 in a musical family in Havana. His father\, pianist\, composer and bandleader Guillermo Rubalcaba\, had also played in the orchestra of Enrique Jorrín\, the creator of cha-cha-cha; his grandfather Jacobo Rubalcaba\, was the composer of classic danzones\, and his two brothers are also musicians. Gonzalo\, a child prodigy who by the age of 6 was playing drums in his father’s orchestra\, started his formal training two years later\, with piano as his main instrument to\, as he once recalled\, “just to please my mother.” He graduated from the Institute of Fine Arts in Havana with a degree in composition and by his mid–teens he was working as both\, drummer and pianist\, in the hotels\, concert halls and jazz clubs of Havana. Following graduation\, he stepped right into the life of the popular musician\, touring Cuba\, Europe\, Africa and Asia with the fabled Orquesta Aragón and also as a sideman in jazz groups and\, beginning in 1984\, leading his own Afro-Cuban jazz rock fusion band\, Grupo Proyecto. \nThe encounters with Gillespie and\, in 1986\, with Charlie Haden and then Blue Note Records president\, Bruce Lundvall\, set the stage to finally showcase Rubalcaba ́s talent before jazz audiences in the United States. These years are documented in a series of recordings in Havana and Frankfurt\, Germany\, including three superb recordings with his Cuban Quartet on the German label Messidor: Mi Gran Pasión (1987)\, Live in Havana (1989) and Giraldilla (1990). Rubalcaba moved to the Dominican Republic in 1991 and settled in Miami in 1996.
URL:https://www.pianyc.net/event/gonzalo-rubalcaba-aymee-nuviola-duo-early-late-shows-at-blue-note-jazz-club/
LOCATION:Blue Note\, 131 W 3rd St\, New York\, NY\, 10012\, United States
CATEGORIES:Live Musical Performance
ATTACH;FMTTYPE=image/jpeg:https://i.ticketweb.com/i/00/12/09/61/13_Edp.jpg?v=6
GEO:40.7309369;-74.0006335
X-APPLE-STRUCTURED-LOCATION;VALUE=URI;X-ADDRESS=Blue Note 131 W 3rd St New York NY 10012 United States;X-APPLE-RADIUS=500;X-TITLE=131 W 3rd St:geo:-74.0006335,40.7309369
END:VEVENT
END:VCALENDAR