BEGIN:VCALENDAR
VERSION:2.0
PRODID:-//PIANYC - ECPv5.12.4//NONSGML v1.0//EN
CALSCALE:GREGORIAN
METHOD:PUBLISH
X-WR-CALNAME:PIANYC
X-ORIGINAL-URL:https://www.pianyc.net
X-WR-CALDESC:Events for PIANYC
BEGIN:VTIMEZONE
TZID:America/New_York
BEGIN:DAYLIGHT
TZOFFSETFROM:-0500
TZOFFSETTO:-0400
TZNAME:EDT
DTSTART:20240310T070000
END:DAYLIGHT
BEGIN:STANDARD
TZOFFSETFROM:-0400
TZOFFSETTO:-0500
TZNAME:EST
DTSTART:20241103T060000
END:STANDARD
END:VTIMEZONE
BEGIN:VEVENT
DTSTART;TZID=America/New_York:20241210T140000
DTEND;TZID=America/New_York:20241210T153000
DTSTAMP:20260422T044021
CREATED:20241009T005317Z
LAST-MODIFIED:20241009T005317Z
UID:172557-1733839200-1733844600@www.pianyc.net
SUMMARY:Golka-Park-Speltz Trio\, at Merkin Hall
DESCRIPTION:TUESDAY MATINEES\nWorks by L.V. Beethoven\, Antonín Dvorák and Ernest Bloch\nThree acclaimed performers join forces in this dynamic trio comprising violinist Grace Park\, cellist Brook Speltz and pianist Adam Golka. \n“Intensely wrought and burnished” (Strings Magazine)\, violinist Grace Park has captivated audiences with her artistry\, passion and virtuosity. Winner of the Naumburg International Violin Competition\, she is one of the leading artists of her generation. \nBrook Speltz is the cellist of the internationally renowned Escher String Quartet and an artist of the Chamber Music Society of Lincoln Center.  An extremely versatile cellist\, Mr. Speltz has performed as a soloist\, chamber musician and recitalist throughout the U.S.\, Canada\, Latin America\, Europe and Asia. \nPolish-American pianist Adam Golka first performed all of Beethoven's Piano Sonatas when he was 18 years old. As a concerto soloist\, he has appeared with dozens of orchestras\, including the BBC Scottish Symphony\, NACO (Ottawa) and Warsaw Philharmonic\, as well as the San Francisco\, Atlanta\, Houston\, Dallas\, Indianapolis and San Diego symphonies in the US\, among many others. \nDeepen your understanding and enjoyment of music at Conscious Listening sessions led by Steinway artist Hsing-ay Hsu before each Tuesday Matinees performance.
URL:https://www.pianyc.net/event/golka-park-speltz-trio-at-merkin-hall/
LOCATION:Merkin Concert Hall at Kaufman Music Center\, 129 W 67th St\, New York\, NY\, 10036\, United States
CATEGORIES:Live Musical Performance
ATTACH;FMTTYPE=image/jpeg:https://www.kaufmanmusiccenter.org/images/uploads/events/_medium/Trio_Composite1200x1200.jpg
GEO:40.7752368;-73.9830916
X-APPLE-STRUCTURED-LOCATION;VALUE=URI;X-ADDRESS=Merkin Concert Hall at Kaufman Music Center 129 W 67th St New York NY 10036 United States;X-APPLE-RADIUS=500;X-TITLE=129 W 67th St:geo:-73.9830916,40.7752368
END:VEVENT
END:VCALENDAR