BEGIN:VCALENDAR
VERSION:2.0
PRODID:-//PIANYC - ECPv5.12.4//NONSGML v1.0//EN
CALSCALE:GREGORIAN
METHOD:PUBLISH
X-WR-CALNAME:PIANYC
X-ORIGINAL-URL:https://www.pianyc.net
X-WR-CALDESC:Events for PIANYC
BEGIN:VTIMEZONE
TZID:America/New_York
BEGIN:DAYLIGHT
TZOFFSETFROM:-0500
TZOFFSETTO:-0400
TZNAME:EDT
DTSTART:20240310T070000
END:DAYLIGHT
BEGIN:STANDARD
TZOFFSETFROM:-0400
TZOFFSETTO:-0500
TZNAME:EST
DTSTART:20241103T060000
END:STANDARD
END:VTIMEZONE
BEGIN:VEVENT
DTSTART;TZID=America/New_York:20240617T193000
DTEND;TZID=America/New_York:20240617T210000
DTSTAMP:20260420T070016
CREATED:20240607T005523Z
LAST-MODIFIED:20240607T005523Z
UID:167382-1718652600-1718658000@www.pianyc.net
SUMMARY:Girma Yifrashewa Solo Recital at Carnegie Hall
DESCRIPTION:Girma Yifrashewa\, Piano \nPeace unto Ethiopia: An Anthology of Original Works and Tributes \nGirma Yifrashewa\, international classical pianist and composer\, makes his Zankel Hall debut with his original works and tributes to Ethiopian composers Emahoy Tsegué-Maryam Guèbrou and Dr. Ashenafi Kebede. Girma performs a fusion of Ethiopian and other African folk melodies with Western art music\, and will showcase works by Louis Moreau Gottschalk along with his latest work. \n 
URL:https://www.pianyc.net/event/girma-yifrashewa-solo-recital-at-carnegie-hall/
LOCATION:Carnegie Hall\, 881 Seventh Avenue\, New York\, NY\, 10019\, United States
CATEGORIES:Live Musical Performance
ATTACH;FMTTYPE=image/jpeg:https://www.pianyc.net/wp-content/uploads/2024/06/Girma-Yifrashewa-Piano.jpg
GEO:40.764938;-73.979897
X-APPLE-STRUCTURED-LOCATION;VALUE=URI;X-ADDRESS=Carnegie Hall 881 Seventh Avenue New York NY 10019 United States;X-APPLE-RADIUS=500;X-TITLE=881 Seventh Avenue:geo:-73.979897,40.764938
END:VEVENT
END:VCALENDAR