BEGIN:VCALENDAR
VERSION:2.0
PRODID:-//PIANYC - ECPv5.12.4//NONSGML v1.0//EN
CALSCALE:GREGORIAN
METHOD:PUBLISH
X-WR-CALNAME:PIANYC
X-ORIGINAL-URL:https://www.pianyc.net
X-WR-CALDESC:Events for PIANYC
BEGIN:VTIMEZONE
TZID:America/New_York
BEGIN:DAYLIGHT
TZOFFSETFROM:-0500
TZOFFSETTO:-0400
TZNAME:EDT
DTSTART:20240310T070000
END:DAYLIGHT
BEGIN:STANDARD
TZOFFSETFROM:-0400
TZOFFSETTO:-0500
TZNAME:EST
DTSTART:20241103T060000
END:STANDARD
END:VTIMEZONE
BEGIN:VEVENT
DTSTART;TZID=America/New_York:20241218T183000
DTEND;TZID=America/New_York:20241218T200000
DTSTAMP:20260423T152447
CREATED:20241027T161746Z
LAST-MODIFIED:20241027T161746Z
UID:172958-1734546600-1734552000@www.pianyc.net
SUMMARY:Georgi Lekov Solo Recital: A Celebration of Bulgarian Piano Music  at the Bulgarian Consulate General
DESCRIPTION:Georgi Lekov\, piano \nPancho VLADIGEROV (1899 – 1978)\nAutumn Elegy\, Op. 15\, No.2\nRachenitsa\, Op. 29\, No.6 \nLubomir PIPKOV (1904 – 1974)\nChanson “Nani mi nani Damiancho”\, Op.78\, No.3\nPastorale\, Op. 24\, No.1 \nMarin GOLEMINOV(1908 – 2000) Bulgarian Dance\, Pierott \nVeselin STOYANOV (1902 – 1969) Toccata \nSvetoslav OBRETENOV (1909 – 1955) “Paidushka” \nAlexander VLADIGEROV (1933 – 1993) Variations “Dilmano Dilbero” \nINTERMISSION \nKrasimir KYURKCHIISKI (1936 – 2011) Variations “Polegnala e Todora”  \nMilcho LEVIEV (1937 – 2019) Toccatina \nKrasimir TASKOV (1955 – ) “Scarecrow”\, “The Underground River” \nYordan GOSHEV (1960 – ) “The Dance of the Bears”  \n Tzvetan DOBREV (1955-) ”Plastiques” \nVasil KAZANDJIEV (1934 – ) “The Triumph of the Bells”
URL:https://www.pianyc.net/event/georgi-lekov-solo-recital-a-celebration-of-bulgarian-piano-music-at-the-bulgarian-consulate-general/
LOCATION:Consulate General of the Republic of Bulgaria\, 121 E 62nd St\, New York\, NY\, 10065\, United States
CATEGORIES:Live Musical Performance
ATTACH;FMTTYPE=image/jpeg:https://www.pianyc.net/wp-content/uploads/2024/10/Georgi-Lekov-Piano.jpg
GEO:40.7646082;-73.9675357
X-APPLE-STRUCTURED-LOCATION;VALUE=URI;X-ADDRESS=Consulate General of the Republic of Bulgaria 121 E 62nd St New York NY 10065 United States;X-APPLE-RADIUS=500;X-TITLE=121 E 62nd St:geo:-73.9675357,40.7646082
END:VEVENT
END:VCALENDAR