BEGIN:VCALENDAR
VERSION:2.0
PRODID:-//PIANYC - ECPv5.12.4//NONSGML v1.0//EN
CALSCALE:GREGORIAN
METHOD:PUBLISH
X-WR-CALNAME:PIANYC
X-ORIGINAL-URL:https://www.pianyc.net
X-WR-CALDESC:Events for PIANYC
BEGIN:VTIMEZONE
TZID:America/New_York
BEGIN:DAYLIGHT
TZOFFSETFROM:-0500
TZOFFSETTO:-0400
TZNAME:EDT
DTSTART:20260308T070000
END:DAYLIGHT
BEGIN:STANDARD
TZOFFSETFROM:-0400
TZOFFSETTO:-0500
TZNAME:EST
DTSTART:20261101T060000
END:STANDARD
END:VTIMEZONE
BEGIN:VEVENT
DTSTART;TZID=America/New_York:20260428T190000
DTEND;TZID=America/New_York:20260428T220000
DTSTAMP:20260422T133035
CREATED:20260412T213900Z
LAST-MODIFIED:20260416T134323Z
UID:200155-1777402800-1777413600@www.pianyc.net
SUMMARY:Gabriel Schillinger-Hyma Quartet at Zinc Bar (Early and Late Shows)
DESCRIPTION:Showtimes: 7:00 PM & 8:30 PM | Tickets: $35 at the door\nReservations: Not necessary — we recommend arriving 20–30 minutes before showtime.\nSeating: Available throughout the shows.\nBar Hours: Open from 5:00 PM to midnight — no cover charge to enjoy cocktails and the vibe! \nGabriel Schillinger-Hyman is known for showcasing a catalogue of originals and arrangements of works by Bill Evans\, Chick Corea\, Thelonious Monk\, Duke Ellington and more. He honors the history of these master pianists with performances that are both soulful and hard-hitting. Gabriel performs with distinguished jazz musicians at household NYC jazz venues including The Django\, Ornithology\, Zinc Bar\, The Harlem Jazz Museum\, Cellar Dog\, and more. He’s appeared as an accompanist at CARNEGIE HALL\, has performed at annual galas the French and Czech Consulates in NYC\, The Metropolitan Museum of Art\, and the Cooper Hewitt Smithsonian Design Museum in New York. Gabriel can be found touring and/or performing almost nightly with internationally renowned jazz artists including Christopher McBride\, Lucas Pino\, Sam Dillon\, Tim Green\, Erena Terakubo\, Alexandra Ridout and more. \nBorn in Chicago and now living in New York\, Christopher McBride is a professional musician\, educator\, composer and arranger. His musician resume is extensive in Jazz (Marquis Hill)\, Hip-Hop (Pete Rock\, Big Daddy Kane\, Rakim) R&B (Solange\, Ne-Yo) Rock (Brandon Flowers) and beyond. As a teacher\, he has served as Director of Education for the Second Line Arts Collective and was selected as 18th Street Arts Center’s 2022 Make Jazz Fellow. As a performing artist\, he has received a Grammy win for his work as a collaborator/soloist on Steven Feifke and Bijon Watson’s 2022 album “Generation Gap Jazz Orchestra.” He has also worked as a journalist and consultant with Forbes Ignite\, the innovation coalition of Forbes. McBride recently released his second project ‘Ramon’ in 2023 which hit the Top 25 on the JazzWeek charts & Top 100 Jazz Albums of 2023. \n“McBride makes a powerful statement through composition. Overall\, McBride’s playing emerges as a potent\, eloquent and a vital addition to the jazz conversation.” – All About Jazz \nThis event is recurring on the following dates:\nTue\, Apr 28 at 07:00 PM\nTue\, Apr 28 at 08:30 PM
URL:https://www.pianyc.net/event/gabriel-schillinger-hyma-quartet-at-zinc-bar-early-and-late-shows/
LOCATION:Zinc Bar\, 82 West 3rd Street\, New York\, NY\, 10012\, United States
CATEGORIES:Live Musical Performance
ATTACH;FMTTYPE=image/jpeg:https://www.zincbar.com/wp-content/uploads/2026/04/0728_Gabriel-Schillinger-Hyman_01B-scaled.jpg
GEO:40.7296714;-73.9989913
X-APPLE-STRUCTURED-LOCATION;VALUE=URI;X-ADDRESS=Zinc Bar 82 West 3rd Street New York NY 10012 United States;X-APPLE-RADIUS=500;X-TITLE=82 West 3rd Street:geo:-73.9989913,40.7296714
END:VEVENT
END:VCALENDAR