BEGIN:VCALENDAR
VERSION:2.0
PRODID:-//PIANYC - ECPv5.12.4//NONSGML v1.0//EN
CALSCALE:GREGORIAN
METHOD:PUBLISH
X-WR-CALNAME:PIANYC
X-ORIGINAL-URL:https://www.pianyc.net
X-WR-CALDESC:Events for PIANYC
BEGIN:VTIMEZONE
TZID:America/New_York
BEGIN:DAYLIGHT
TZOFFSETFROM:-0500
TZOFFSETTO:-0400
TZNAME:EDT
DTSTART:20250309T070000
END:DAYLIGHT
BEGIN:STANDARD
TZOFFSETFROM:-0400
TZOFFSETTO:-0500
TZNAME:EST
DTSTART:20251102T060000
END:STANDARD
END:VTIMEZONE
BEGIN:VEVENT
DTSTART;TZID=America/New_York:20250304T203000
DTEND;TZID=America/New_York:20250304T213000
DTSTAMP:20260420T105104
CREATED:20241117T183602Z
LAST-MODIFIED:20241213T020548Z
UID:174765-1741120200-1741123800@www.pianyc.net
SUMMARY:From Tokyo to Times Square: Eri Yamamoto at Klavierhaus
DESCRIPTION:Join for a captivating evening of jazz with the Eri Yamamoto Trio at Klavierhaus on Tuesday\, March 4\, 2025\, as part of our Japanese Jazz Piano Series\, “From Tokyo to Times Square.” This series celebrates the dynamic musical and cultural exchange between Japan and New York. \nEri Yamamoto\, a Japanese-born pianist and composer\, has been a prominent figure in the New York jazz scene for over two decades. With her roots in classical music\, Eri discovered jazz during her university years\, leading her to pursue a career that has seen her perform at some of the most prestigious venues worldwide. \nEri’s compositions are deeply lyrical and expressive\, blending elements of traditional Japanese music with contemporary jazz. Her music resonates with a profound sense of melody and emotion\, earning her recognition as one of the most original voices in jazz today. \nEri has performed alongside jazz legends such as William Parker\, Hamid Drake\, and Daniel Carter. Her albums\, including the critically acclaimed “Life” and “Cobalt Blue\,” showcase her innovative approach to jazz\, weaving together improvisation\, intricate harmonies\, and rhythmic complexity. \nDon’t miss this chance to experience Eri Yamamoto’s enchanting blend of jazz and cultural storytelling in an intimate setting. Her trio\, featuring some of New York’s finest musicians\, will take you on a musical journey that promises to be both unforgettable and inspiring. \nLive Shows: 7pm & 8:30pm ($25/$30\, students $15)\nHD Livestream: Watch from home ($10/$15)\nGift Certificates: Perfect music lover’s gift
URL:https://www.pianyc.net/event/from-tokyo-to-times-square-eri-yamamoto-at-klavierhaus/
LOCATION:Klavierhaus\, 790 11th Avenue\, New York\, NY\, 10019\, United States
CATEGORIES:Live Musical Performance
ATTACH;FMTTYPE=image/jpeg:https://img.evbuc.com/https%3A%2F%2Fcdn.evbuc.com%2Fimages%2F856161809%2F1704170045453%2F1%2Foriginal.20240921-225012?crop=focalpoint&fit=crop&w=1000&auto=format%2Ccompress&q=75&sharp=10&fp-x=5e-05&fp-y=5e-05&s=f81fd1dec7f4fa02f9bdd34cd9467dc7
GEO:40.7686401;-73.9922313
X-APPLE-STRUCTURED-LOCATION;VALUE=URI;X-ADDRESS=Klavierhaus 790 11th Avenue New York NY 10019 United States;X-APPLE-RADIUS=500;X-TITLE=790 11th Avenue:geo:-73.9922313,40.7686401
END:VEVENT
END:VCALENDAR