BEGIN:VCALENDAR
VERSION:2.0
PRODID:-//PIANYC - ECPv5.12.4//NONSGML v1.0//EN
CALSCALE:GREGORIAN
METHOD:PUBLISH
X-WR-CALNAME:PIANYC
X-ORIGINAL-URL:https://www.pianyc.net
X-WR-CALDESC:Events for PIANYC
BEGIN:VTIMEZONE
TZID:America/New_York
BEGIN:DAYLIGHT
TZOFFSETFROM:-0500
TZOFFSETTO:-0400
TZNAME:EDT
DTSTART:20250309T070000
END:DAYLIGHT
BEGIN:STANDARD
TZOFFSETFROM:-0400
TZOFFSETTO:-0500
TZNAME:EST
DTSTART:20251102T060000
END:STANDARD
END:VTIMEZONE
BEGIN:VEVENT
DTSTART;TZID=America/New_York:20250621T200000
DTEND;TZID=America/New_York:20250621T220000
DTSTAMP:20260421T102637
CREATED:20250616T021949Z
LAST-MODIFIED:20250621T173800Z
UID:181828-1750536000-1750543200@www.pianyc.net
SUMMARY:Frankie DiDonato & His New Illuminati Players at OPERA America
DESCRIPTION:“I Shall Seize Fate by the Throat” – Beethoven \nThis is our theme of the evening- Art\, Poetry \, Life\, Death\, Rejoice \, Regret \, Life is to be lived. Music based on these themes and those who played with fate either with reverance or animosity. Our representations or Archetypes for this journey tonight are: \n\nAll of us. (The Road Not Taken by Robert Frost)\nEduourd Manet\nThe Vikings\nHamlet\nParacelsus (Father of Alchemy)\nJ. Alfred Prufrock (character invented by T.S. Eliot)\n\n  \nTHE NEW ILLUMINATI \nThe Illuminati was a small group of people who sought to infuse higher thinking into the main stream\, thus Illluninating the average people through art. They existed just prior to the French Revolution. Christian Gottleib Neefe was Beethoven’s only real teacher from childhood through adolescense. He was also a key member and the secretary of the Illuminati. His humanity and beleifs no doubt influenced the young mind of the greatest musician of all time\, helping the master to illuminate the world throughout his lifetime and ours. \nWe are here to praise those who came before us and carry that torch. Your attending helps in that effort; The belief that art in itself… Not “art” as a “vehicle” for a “cause” …NO ! but that Art in itself and of itself benefits the world more than any other entity. \n  \nI hope you attend and enjoy our work and help us continue our quest. \nFrankie DiDonato (composer) Robert Mcdaniels MC and Baritone \, Valerie Nuzzolo Clarinet\, Heather O’Gara Clarinet\, Francesca Bucci-Vernizzi Muron Piano\, John Bowen Piano\, Stephanie Horowitz Mulry Soprano\, Michael Eaton Tenor Saxophone\, Nemanyah A. Viola and Pilgram Tech. \n 
URL:https://www.pianyc.net/event/frankie-didonato-his-new-illuminati-players-at-opera-america/
LOCATION:OPERA America’s National Opera Center\, 330 Seventh Avenue\, 7th Floor\, New York\, NY\, 10001\, United States
CATEGORIES:Live Musical Performance
ATTACH;FMTTYPE=image/jpeg:https://img.evbuc.com/https%3A%2F%2Fcdn.evbuc.com%2Fimages%2F1038633483%2F67024434675%2F1%2Foriginal.20250525-203149?crop=focalpoint&fit=crop&w=1000&auto=format%2Ccompress&q=75&sharp=10&fp-x=0.503787878788&fp-y=0.669718309859&s=81f77aea98262037f3aa7b4e66594023
GEO:40.7477734;-73.9933646
X-APPLE-STRUCTURED-LOCATION;VALUE=URI;X-ADDRESS=OPERA America’s National Opera Center 330 Seventh Avenue 7th Floor New York NY 10001 United States;X-APPLE-RADIUS=500;X-TITLE=330 Seventh Avenue\, 7th Floor:geo:-73.9933646,40.7477734
END:VEVENT
END:VCALENDAR