BEGIN:VCALENDAR
VERSION:2.0
PRODID:-//PIANYC - ECPv5.12.4//NONSGML v1.0//EN
CALSCALE:GREGORIAN
METHOD:PUBLISH
X-WR-CALNAME:PIANYC
X-ORIGINAL-URL:https://www.pianyc.net
X-WR-CALDESC:Events for PIANYC
BEGIN:VTIMEZONE
TZID:America/New_York
BEGIN:DAYLIGHT
TZOFFSETFROM:-0500
TZOFFSETTO:-0400
TZNAME:EDT
DTSTART:20230312T070000
END:DAYLIGHT
BEGIN:STANDARD
TZOFFSETFROM:-0400
TZOFFSETTO:-0500
TZNAME:EST
DTSTART:20231105T060000
END:STANDARD
END:VTIMEZONE
BEGIN:VEVENT
DTSTART;TZID=America/New_York:20230828T123000
DTEND;TZID=America/New_York:20230901T143000
DTSTAMP:20260420T115606
CREATED:20230625T215418Z
LAST-MODIFIED:20230625T215418Z
UID:150959-1693225800-1693578600@www.pianyc.net
SUMMARY:Frank Owens on the Upper Terrace at Bryant Park
DESCRIPTION:Come on by and tap your toes to The Big Apple’s finest ragtime\, stride\, and jazz pianists around! Featuring special events and performances by distinguished musicians sprinkled throughout the schedule. \n \nFrank Owens \nFrank Owens – Pianist\, Arranger\, Musical Director\, Producer & Composer\nHis career spans across genres of the music spectrum. A true professional and quite often dubbed as “the perfectionist\,” Frank Owens is an authority on Erroll Garner\, and the late Eubie Blake\, with whom he briefly studied. His first gig included playing piano for Amateur Night at the Apollo\, in Harlem. If Frank Owens played for you as a singer in those days\, you were sure to win that night…or at the very least\, you would be asked to return the following week. Eventually\, in the 90s\, Frank served as Musical Director for the televised version of “Showtime at the Apollo.” A virtuoso pianist\, trained in the European classics\, he can shift gears at a moment’s notice to paint a Brazilian or Japanese landscape.
URL:https://www.pianyc.net/event/frank-owens-on-the-upper-terrace-at-bryant-park-2/2023-08-28/
LOCATION:Bryant Park\, Upper Terrace\, 36 W 40th St\, New York\, NY\, 10018\, United States
CATEGORIES:Live Musical Performance
ATTACH;FMTTYPE=image/jpeg:https://www.pianyc.net/wp-content/uploads/2022/08/bryant-park.jpeg
GEO:40.7527864;-73.9836149
X-APPLE-STRUCTURED-LOCATION;VALUE=URI;X-ADDRESS=Bryant Park Upper Terrace 36 W 40th St New York NY 10018 United States;X-APPLE-RADIUS=500;X-TITLE=36 W 40th St:geo:-73.9836149,40.7527864
END:VEVENT
END:VCALENDAR