BEGIN:VCALENDAR
VERSION:2.0
PRODID:-//PIANYC - ECPv5.12.4//NONSGML v1.0//EN
CALSCALE:GREGORIAN
METHOD:PUBLISH
X-WR-CALNAME:PIANYC
X-ORIGINAL-URL:https://www.pianyc.net
X-WR-CALDESC:Events for PIANYC
BEGIN:VTIMEZONE
TZID:America/New_York
BEGIN:DAYLIGHT
TZOFFSETFROM:-0500
TZOFFSETTO:-0400
TZNAME:EDT
DTSTART:20230312T070000
END:DAYLIGHT
BEGIN:STANDARD
TZOFFSETFROM:-0400
TZOFFSETTO:-0500
TZNAME:EST
DTSTART:20231105T060000
END:STANDARD
END:VTIMEZONE
BEGIN:VEVENT
DTSTART;TZID=America/New_York:20230929T220000
DTEND;TZID=America/New_York:20230929T235500
DTSTAMP:20260421T063934
CREATED:20230807T201115Z
LAST-MODIFIED:20230807T201115Z
UID:152763-1696024800-1696031700@www.pianyc.net
SUMMARY:First Friday at  The Cutting Room
DESCRIPTION:First Friday has been playing for over 25 years appealing to a multi-generational fan base\, performing both originals and covers of artists such as Cream\, Jimi Hendrix\, Dire Straits and Van Morrison. They bring high energy with a wide melodic range of vocals \, soaring guitar solos and a driving rhythmic groove. They have played in many venues across the country\, including The Double Door in Chicago and Humphrey’s in San Diego. \nThe band consists of Norm Zeller ( guitar) who has played with Natalie Cole\, Undisputed Truth and Stargard. Jack Prendergast (piano/bass) who has shared the stage with Dionne Warwick\, Fats Domino and Bobby Freeman\, Andy Wallace (bass\, vocals) who in addition to his musical skills has mixed/produced over 140 albums/groups including Nirvana’s Nevermind\, Slayer\, Ghost\, Avenged Sevenfold and has won a Grammy for Sheryl Crow’s The Globe Sessions. Additionally on vocals are lead vocalist Bob Ewan \,who has multiple albums streaming on Spotify and iTunes \,Mike Duell \, who has sung with Nazgul and Second Wind and Jim Stynes (drums) who has played in the Illinois Jazz band and toured the Midwest with a number of rock bands. \nThe band has an eponymous album \, First Friday\, and expects to release its next album\, First Friday Second Chances\, later this year.
URL:https://www.pianyc.net/event/first-friday-at-the-cutting-room/
LOCATION:The Cutting Room\, 44 East 32nd Street\, New York\, NY\, 10016\, United States
CATEGORIES:Live Musical Performance
ATTACH;FMTTYPE=image/jpeg:https://img.evbuc.com/https%3A%2F%2Fcdn.evbuc.com%2Fimages%2F565077769%2F193755417906%2F1%2Foriginal.20230731-043403?w=1000&auto=format%2Ccompress&q=75&sharp=10&rect=0%2C0%2C2160%2C1080&s=97db2b3bdd7c7968988ef5d19e4999d8
GEO:40.7458467;-73.9829265
X-APPLE-STRUCTURED-LOCATION;VALUE=URI;X-ADDRESS=The Cutting Room 44 East 32nd Street New York NY 10016 United States;X-APPLE-RADIUS=500;X-TITLE=44 East 32nd Street:geo:-73.9829265,40.7458467
END:VEVENT
END:VCALENDAR