BEGIN:VCALENDAR
VERSION:2.0
PRODID:-//PIANYC - ECPv5.12.4//NONSGML v1.0//EN
CALSCALE:GREGORIAN
METHOD:PUBLISH
X-WR-CALNAME:PIANYC
X-ORIGINAL-URL:https://www.pianyc.net
X-WR-CALDESC:Events for PIANYC
BEGIN:VTIMEZONE
TZID:America/New_York
BEGIN:DAYLIGHT
TZOFFSETFROM:-0500
TZOFFSETTO:-0400
TZNAME:EDT
DTSTART:20240310T070000
END:DAYLIGHT
BEGIN:STANDARD
TZOFFSETFROM:-0400
TZOFFSETTO:-0500
TZNAME:EST
DTSTART:20241103T060000
END:STANDARD
END:VTIMEZONE
BEGIN:VEVENT
DTSTART;TZID=America/New_York:20241121T193000
DTEND;TZID=America/New_York:20241121T210000
DTSTAMP:20260420T101302
CREATED:20240815T161237Z
LAST-MODIFIED:20240817T153950Z
UID:169649-1732217400-1732222800@www.pianyc.net
SUMMARY:Filippo Gorini Solo Recital at Carnegie Hall
DESCRIPTION:Performer\nFilippo Gorini\, Piano \nWinner of the coveted Premio Abbiati (Best Soloist of the Year) in 2022\, pianist Filippo Gorini is a supremely gifted musician who has impressed in many of the world’s great concert venues. In his Carnegie Hall debut recital\, he performs Beethoven’s “Diabelli Variations\,” a virtuosic undertaking that has earned Gorini a Diapason d’Or\, as well as five-star reviews in The Guardian\, BBC Music Magazine\, and Le Monde. Berg’s single-movement Piano Sonata and Schubert’s exquisite Piano Sonata in A Major are also featured in this remarkable debut. \nProgram\nBERG Piano Sonata\, Op. 1\nSCHUBERT Piano Sonata in A Major\, D. 664\nBEETHOVEN Thirty-Three Variations on a Waltz by Diabelli\, Op. 120
URL:https://www.pianyc.net/event/filippo-gorini-solo-recital-at-carnegie-hall/
LOCATION:Carnegie Hall\, 881 Seventh Avenue\, New York\, NY\, 10019\, United States
CATEGORIES:Live Musical Performance
ATTACH;FMTTYPE=image/jpeg:https://carnegiehall.imgix.net:443/-/media/CarnegieHall/Images/Events/2024-2025-CH-Presents/2024-11-21-Filippo-Gorini.jpg
GEO:40.764938;-73.979897
X-APPLE-STRUCTURED-LOCATION;VALUE=URI;X-ADDRESS=Carnegie Hall 881 Seventh Avenue New York NY 10019 United States;X-APPLE-RADIUS=500;X-TITLE=881 Seventh Avenue:geo:-73.979897,40.764938
END:VEVENT
END:VCALENDAR