BEGIN:VCALENDAR
VERSION:2.0
PRODID:-//PIANYC - ECPv5.12.4//NONSGML v1.0//EN
CALSCALE:GREGORIAN
METHOD:PUBLISH
X-WR-CALNAME:PIANYC
X-ORIGINAL-URL:https://www.pianyc.net
X-WR-CALDESC:Events for PIANYC
BEGIN:VTIMEZONE
TZID:America/New_York
BEGIN:DAYLIGHT
TZOFFSETFROM:-0500
TZOFFSETTO:-0400
TZNAME:EDT
DTSTART:20230312T070000
END:DAYLIGHT
BEGIN:STANDARD
TZOFFSETFROM:-0400
TZOFFSETTO:-0500
TZNAME:EST
DTSTART:20231105T060000
END:STANDARD
END:VTIMEZONE
BEGIN:VEVENT
DTSTART;TZID=America/New_York:20230629T193000
DTEND;TZID=America/New_York:20230629T213000
DTSTAMP:20260420T121245
CREATED:20230623T152215Z
LAST-MODIFIED:20230624T220332Z
UID:150533-1688067000-1688074200@www.pianyc.net
SUMMARY:Festival Finale | Our Shared Home at Saint Peter's Chelsea
DESCRIPTION:PROGRAM\nTakashi Yoshimatsu (b. 1953) | Threnody to Toki\, Op. 12 (1980) \nNicky Sohn (b. 1992) | Chesterton’s Gardens (2016) \nRyuichi Sakamoto (1952-2023) | 20220302 Sarabande (2022) \nRyuichi Sakamoto (1952-2023) | Rain (1987) \nPatricio Molina (b. 1993) | Kecha Tregulfe “They Took You To Dance” (2021) \nGerald Finzi | Eclogue for Piano and Strings\, Op. 10 (1927) \nFEATURING\nSoprano | Sonya Headlam \nPiano | Robert Fleitz\, Melinda Lee Masur \nViolin | Tomotaka Seki\, Max Tan\, Danbi Um\, Jonathan Ong\, Dorothy Ro\, Lisa Lee\, Jocelyn Zhu \nViola | Ayako Tahara\, Abigail Rojansky\, Amadi Azikiwe \nCello | Jonathan Dormand\, Angela Lee \nBass | Nathaniel Chase\, Pawel Knapik \nConductor | Ken-David Masur \nArtwork by the Gleaning Project and artist Noemia Marinho \nThis year’s Festival Finale features music by Gerald Finzi alongside contemporary composers Nicky Sohn\, Patricio Molina\, and Oscar-winning Ryuichi Sakamoto\, who we lost just this year. \nThe music will serve as both a celebration and a lament for our changing world. \nReception to follow featuring ChocNYC\, Svnna Sea Moss\, Radeberger Gruppe USA & wine from Wirtschaftsrunde – Senior Executive Roundtable of German-American Companies in the United States \nRadeberger Gruppe USA\, 2023 Festival Finale Sponsor \nSteinway & Sons\, Official Piano of the 2023 Chelsea Music Festival \nClick to see full list of Festival Sponsors
URL:https://www.pianyc.net/event/festival-finale-our-shared-home-at-saint-peters-chelsea/
LOCATION:Saint Peter’s Chelsea\, 346 West 20th Street\, New York\, NY\, NY 10011\,\, United States
CATEGORIES:Live Musical Performance
ATTACH;FMTTYPE=image/jpeg:https://img.evbuc.com/https%3A%2F%2Fcdn.evbuc.com%2Fimages%2F520351799%2F13298197299%2F1%2Foriginal.20230523-021429?w=1000&auto=format%2Ccompress&q=75&sharp=10&rect=0%2C0%2C2160%2C1080&s=526aaa37035678f086088526aca6cded
GEO:40.7440704;-74.0019612
X-APPLE-STRUCTURED-LOCATION;VALUE=URI;X-ADDRESS=Saint Peter’s Chelsea 346 West 20th Street New York NY NY 10011 United States;X-APPLE-RADIUS=500;X-TITLE=346 West 20th Street:geo:-74.0019612,40.7440704
END:VEVENT
END:VCALENDAR