BEGIN:VCALENDAR
VERSION:2.0
PRODID:-//PIANYC - ECPv5.12.4//NONSGML v1.0//EN
CALSCALE:GREGORIAN
METHOD:PUBLISH
X-WR-CALNAME:PIANYC
X-ORIGINAL-URL:https://www.pianyc.net
X-WR-CALDESC:Events for PIANYC
BEGIN:VTIMEZONE
TZID:America/New_York
BEGIN:DAYLIGHT
TZOFFSETFROM:-0500
TZOFFSETTO:-0400
TZNAME:EDT
DTSTART:20240310T070000
END:DAYLIGHT
BEGIN:STANDARD
TZOFFSETFROM:-0400
TZOFFSETTO:-0500
TZNAME:EST
DTSTART:20241103T060000
END:STANDARD
END:VTIMEZONE
BEGIN:VEVENT
DTSTART;TZID=America/New_York:20240201T200000
DTEND;TZID=America/New_York:20240201T213000
DTSTAMP:20260421T081301
CREATED:20230918T210202Z
LAST-MODIFIED:20230918T210202Z
UID:154990-1706817600-1706823000@www.pianyc.net
SUMMARY:Festival Chamber Music at Carnegie Hall
DESCRIPTION:Performers\nPhilip Edward Fisher\, Piano\nRannveig Marta Sarc\, Violin\nBrian Hong\, Viola\nRuth Sommers\, Cello \n 
URL:https://www.pianyc.net/event/festival-chamber-music-at-carnegie-hall-5/
LOCATION:Carnegie Hall\, 881 Seventh Avenue\, New York\, NY\, 10019\, United States
CATEGORIES:Live Musical Performance
ATTACH;FMTTYPE=image/jpeg:https://i.discogs.com/Ihbj0C8OeYZRakkp1CjkXGR33or0WBzn53cR-C0IlgA/rs:fit/g:sm/q:40/h:300/w:300/czM6Ly9kaXNjb2dz/LWRhdGFiYXNlLWlt/YWdlcy9BLTM1MDI4/MzctMTQwNTE3NDMw/My04MzM4LmpwZWc.jpeg
GEO:40.764938;-73.979897
X-APPLE-STRUCTURED-LOCATION;VALUE=URI;X-ADDRESS=Carnegie Hall 881 Seventh Avenue New York NY 10019 United States;X-APPLE-RADIUS=500;X-TITLE=881 Seventh Avenue:geo:-73.979897,40.764938
END:VEVENT
END:VCALENDAR