BEGIN:VCALENDAR
VERSION:2.0
PRODID:-//PIANYC - ECPv5.12.4//NONSGML v1.0//EN
CALSCALE:GREGORIAN
METHOD:PUBLISH
X-WR-CALNAME:PIANYC
X-ORIGINAL-URL:https://www.pianyc.net
X-WR-CALDESC:Events for PIANYC
BEGIN:VTIMEZONE
TZID:America/New_York
BEGIN:DAYLIGHT
TZOFFSETFROM:-0500
TZOFFSETTO:-0400
TZNAME:EDT
DTSTART:20240310T070000
END:DAYLIGHT
BEGIN:STANDARD
TZOFFSETFROM:-0400
TZOFFSETTO:-0500
TZNAME:EST
DTSTART:20241103T060000
END:STANDARD
END:VTIMEZONE
BEGIN:VEVENT
DTSTART;TZID=America/New_York:20240116T200000
DTEND;TZID=America/New_York:20240116T213000
DTSTAMP:20260420T234847
CREATED:20230918T203411Z
LAST-MODIFIED:20230918T203808Z
UID:154973-1705435200-1705440600@www.pianyc.net
SUMMARY:Fazıl Say Solo Recital at Carnegie Hall
DESCRIPTION:Performer\nFazıl Say\, Piano \nProgram\nProgram to include:\nJ. S. BACH Chaconne in D Minor (arr. Busoni\, from Violin Partita No. 2\, BWV 1004)\nBEETHOVEN Piano Sonata No. 17 in D Minor\, Op. 31\, No. 2\, “The Tempest”\nFAZIL SAY Piano Sonata\, Op. 99\, “New Life”\nFAZIL SAY Black Earth\nAnd additional works by Fazil Say
URL:https://www.pianyc.net/event/fazil-say-solo-recital-at-carnegie-hall/
LOCATION:Carnegie Hall\, 881 Seventh Avenue\, New York\, NY\, 10019\, United States
CATEGORIES:Live Musical Performance
ATTACH;FMTTYPE=image/jpeg:https://carnegiehall.imgix.net:443/-/media/CarnegieHall/Images/Events/2023-2024-Rentals/say-fazil.jpg
GEO:40.764938;-73.979897
X-APPLE-STRUCTURED-LOCATION;VALUE=URI;X-ADDRESS=Carnegie Hall 881 Seventh Avenue New York NY 10019 United States;X-APPLE-RADIUS=500;X-TITLE=881 Seventh Avenue:geo:-73.979897,40.764938
END:VEVENT
END:VCALENDAR