BEGIN:VCALENDAR
VERSION:2.0
PRODID:-//PIANYC - ECPv5.12.4//NONSGML v1.0//EN
CALSCALE:GREGORIAN
METHOD:PUBLISH
X-WR-CALNAME:PIANYC
X-ORIGINAL-URL:https://www.pianyc.net
X-WR-CALDESC:Events for PIANYC
BEGIN:VTIMEZONE
TZID:America/New_York
BEGIN:DAYLIGHT
TZOFFSETFROM:-0500
TZOFFSETTO:-0400
TZNAME:EDT
DTSTART:20250309T070000
END:DAYLIGHT
BEGIN:STANDARD
TZOFFSETFROM:-0400
TZOFFSETTO:-0500
TZNAME:EST
DTSTART:20251102T060000
END:STANDARD
END:VTIMEZONE
BEGIN:VEVENT
DTSTART;TZID=America/New_York:20251022T183000
DTEND;TZID=America/New_York:20251022T210000
DTSTAMP:20260423T111736
CREATED:20250919T183401Z
LAST-MODIFIED:20251009T234203Z
UID:188289-1761157800-1761166800@www.pianyc.net
SUMMARY:Fabbri Chamber Concert Featuring Andrew Armstrong\, Piano\, at House of the Redeemer
DESCRIPTION:The Fabbri Chamber Concerts return for the season with acclaimed pianist and host Andrew Armstrong. The evening’s program features works by Julia Perry and William Grant Still\, Beethoven’s beloved “Das Lebewohl” Sonata\, and Mussorgsky’s masterful Pictures at an Exhibition. Praised for his passionate expression and dazzling technique\, Armstrong has performed on the world’s great stages from Carnegie Hall to Wigmore Hall. Join us in the intimate Fabbri Library for an unforgettable evening of chamber music. \nTickets for this performance are $35 for students and $55 general admission \nLight refreshments will follow. \nThe Fabbri Series and Music at the House programs are made possible in part by generous support from The Achelis and Bodman Foundation.
URL:https://www.pianyc.net/event/fabbri-chamber-concert-featuring-andrew-armstrong-piano-at-house-of-the-redeemer/
LOCATION:House of the Redeemer\, 7 East 95th Street\, New York\, NY\, 10128\, United States
CATEGORIES:Live Musical Performance
ATTACH;FMTTYPE=image/jpeg:https://external-content.duckduckgo.com/iu/?u=https%3A%2F%2Fimages.squarespace-cdn.com%2Fcontent%2Fv1%2F658d9473228cb737d25378c4%2F1705332033062-ROT36FUE9VFBIIX2RBI0%2F294-colour-medium-sRGB-Andrew-Armstrong-Aug-2023-2946-scaled.jpg%3Fformat%3D2500w&f=1&nofb=1&ipt=a2aa8ce2f7c4d5affdfea5faca43e674cb9d649cdc63956c270da179446ba626
GEO:40.787053;-73.9552464
X-APPLE-STRUCTURED-LOCATION;VALUE=URI;X-ADDRESS=House of the Redeemer 7 East 95th Street New York NY 10128 United States;X-APPLE-RADIUS=500;X-TITLE=7 East 95th Street:geo:-73.9552464,40.787053
END:VEVENT
END:VCALENDAR