BEGIN:VCALENDAR
VERSION:2.0
PRODID:-//PIANYC - ECPv5.12.4//NONSGML v1.0//EN
CALSCALE:GREGORIAN
METHOD:PUBLISH
X-WR-CALNAME:PIANYC
X-ORIGINAL-URL:https://www.pianyc.net
X-WR-CALDESC:Events for PIANYC
BEGIN:VTIMEZONE
TZID:America/New_York
BEGIN:DAYLIGHT
TZOFFSETFROM:-0500
TZOFFSETTO:-0400
TZNAME:EDT
DTSTART:20230312T070000
END:DAYLIGHT
BEGIN:STANDARD
TZOFFSETFROM:-0400
TZOFFSETTO:-0500
TZNAME:EST
DTSTART:20231105T060000
END:STANDARD
END:VTIMEZONE
BEGIN:VEVENT
DTSTART;TZID=America/New_York:20230217T190000
DTEND;TZID=America/New_York:20230217T203000
DTSTAMP:20260420T063429
CREATED:20221106T001343Z
LAST-MODIFIED:20221106T001421Z
UID:140880-1676660400-1676665800@www.pianyc.net
SUMMARY:Ensemble Connect at Carnegie Hall
DESCRIPTION:Performer\nEnsemble Connect \nProgram\nJENNIFER HIGDON Dark Wood\nMOZART Quintet for Piano and Winds in E-flat Major\, K. 452\nMICHI WIANCKO New Work (World Premiere\, commissioned by Carnegie Hall)\nR. SCHUMANN Piano Quintet
URL:https://www.pianyc.net/event/ensemble-connect-at-carnegie-hall-6/
LOCATION:Carnegie Hall\, 881 Seventh Avenue\, New York\, NY\, 10019\, United States
CATEGORIES:Live Musical Performance
ATTACH;FMTTYPE=image/jpeg:https://carnegiehall.imgix.net:443/-/media/CarnegieHall/Images/Events/2022-2023-CH-Presents/2023-02-17-Ensemble-Connect.jpg
GEO:40.764938;-73.979897
X-APPLE-STRUCTURED-LOCATION;VALUE=URI;X-ADDRESS=Carnegie Hall 881 Seventh Avenue New York NY 10019 United States;X-APPLE-RADIUS=500;X-TITLE=881 Seventh Avenue:geo:-73.979897,40.764938
END:VEVENT
END:VCALENDAR