BEGIN:VCALENDAR
VERSION:2.0
PRODID:-//PIANYC - ECPv5.12.4//NONSGML v1.0//EN
CALSCALE:GREGORIAN
METHOD:PUBLISH
X-WR-CALNAME:PIANYC
X-ORIGINAL-URL:https://www.pianyc.net
X-WR-CALDESC:Events for PIANYC
BEGIN:VTIMEZONE
TZID:America/New_York
BEGIN:DAYLIGHT
TZOFFSETFROM:-0500
TZOFFSETTO:-0400
TZNAME:EDT
DTSTART:20240310T070000
END:DAYLIGHT
BEGIN:STANDARD
TZOFFSETFROM:-0400
TZOFFSETTO:-0500
TZNAME:EST
DTSTART:20241103T060000
END:STANDARD
END:VTIMEZONE
BEGIN:VEVENT
DTSTART;TZID=America/New_York:20241025T193000
DTEND;TZID=America/New_York:20241025T210000
DTSTAMP:20260420T053614
CREATED:20241002T010253Z
LAST-MODIFIED:20241002T010253Z
UID:171866-1729884600-1729890000@www.pianyc.net
SUMMARY:Ensemble Connect at Carnegie Hall
DESCRIPTION:Performer\nEnsemble Connect \nProgram\nBONGANI NDODANA-BREEN Safika: Three Tales on African Migration\nANDILE KHUMALO Cry Out\nDVOŘÁK Piano Quintet No. 2
URL:https://www.pianyc.net/event/ensemble-connect-at-carnegie-hall-2/
LOCATION:Carnegie Hall\, 881 Seventh Avenue\, New York\, NY\, 10019\, United States
CATEGORIES:Live Musical Performance
ATTACH;FMTTYPE=image/jpeg:https://carnegiehall.imgix.net:443/-/media/CarnegieHall/Images/Events/2024-2025-CH-Presents/2024-10-29-Ensemble-Connect.jpg
GEO:40.764938;-73.979897
X-APPLE-STRUCTURED-LOCATION;VALUE=URI;X-ADDRESS=Carnegie Hall 881 Seventh Avenue New York NY 10019 United States;X-APPLE-RADIUS=500;X-TITLE=881 Seventh Avenue:geo:-73.979897,40.764938
END:VEVENT
END:VCALENDAR