BEGIN:VCALENDAR
VERSION:2.0
PRODID:-//PIANYC - ECPv5.12.4//NONSGML v1.0//EN
CALSCALE:GREGORIAN
METHOD:PUBLISH
X-WR-CALNAME:PIANYC
X-ORIGINAL-URL:https://www.pianyc.net
X-WR-CALDESC:Events for PIANYC
BEGIN:VTIMEZONE
TZID:America/New_York
BEGIN:DAYLIGHT
TZOFFSETFROM:-0500
TZOFFSETTO:-0400
TZNAME:EDT
DTSTART:20250309T070000
END:DAYLIGHT
BEGIN:STANDARD
TZOFFSETFROM:-0400
TZOFFSETTO:-0500
TZNAME:EST
DTSTART:20251102T060000
END:STANDARD
END:VTIMEZONE
BEGIN:VEVENT
DTSTART;TZID=America/New_York:20250930T190000
DTEND;TZID=America/New_York:20250930T230000
DTSTAMP:20260423T012838
CREATED:20250824T011217Z
LAST-MODIFIED:20250901T143353Z
UID:186144-1759258800-1759273200@www.pianyc.net
SUMMARY:Emmet Cohen Trio at Birdland (Early and Late Shows)
DESCRIPTION:Description\nMultifaceted American jazz pianist and composer Emmet Cohen is one of his generation’s pivotal figures in music and the related arts. Leader of the Emmet Cohen Trio and creator of the Masters Legacy Series\, he is an internationally acclaimed jazz artist\, a dedicated educator\, the winner of the 2019 American Pianists Awards\, and a finalist in the 2011 Thelonious Monk International Piano Competition. Cohen headlines regularly at Jazz at Lincoln Center\, the Village Vanguard\, and Birdland\, and has appeared at the Newport\, Monterey\, and North Sea jazz festivals. His artistry has taken him to venues and festivals in over 30 countries. Cohen’s entrepreneurial energies led to his developing “Live From Emmet’s Place\,” a live-streamed “Harlem rent party” that unites a worldwide audience via tens of millions of internet views. Cohen has released over ten albums as leader and has performed or recorded with Ron Carter\, Benny Golson\, Jimmy Cobb\, George Coleman\, Jimmy Heath\, Tootie Heath\, Houston Person\, Christian McBride\, and Kurt Elling. \nThis is a recurring event. All dates:\nTuesday\, September 30 2025\, 07:00 PM\nTuesday\, September 30 2025\, 09:30 PM\nWednesday\, October 01 2025\, 07:00 PM\nWednesday\, October 01 2025\, 09:30 PM\nThursday\, October 02 2025\, 07:00 PM\nThursday\, October 02 2025\, 09:30 PM\nFriday\, October 03 2025\, 08:30 PM\nFriday\, October 03 2025\, 10:30 PM\nSaturday\, October 04 2025\, 08:30 PM\nSaturday\, October 04 2025\, 10:30 PM
URL:https://www.pianyc.net/event/emmet-cohen-trio-at-birdland-5/2025-09-30/
LOCATION:Birdland\, 315 West 44th Street\, New York\, NY\, 10036\, United States
CATEGORIES:Live Musical Performance
ATTACH;FMTTYPE=image/jpeg:https://i.ticketweb.com/i/00/12/55/45/94_Original.jpg
GEO:40.759194;-73.9898
X-APPLE-STRUCTURED-LOCATION;VALUE=URI;X-ADDRESS=Birdland 315 West 44th Street New York NY 10036 United States;X-APPLE-RADIUS=500;X-TITLE=315 West 44th Street:geo:-73.9898,40.759194
END:VEVENT
END:VCALENDAR