BEGIN:VCALENDAR
VERSION:2.0
PRODID:-//PIANYC - ECPv5.12.4//NONSGML v1.0//EN
CALSCALE:GREGORIAN
METHOD:PUBLISH
X-WR-CALNAME:PIANYC
X-ORIGINAL-URL:https://www.pianyc.net
X-WR-CALDESC:Events for PIANYC
BEGIN:VTIMEZONE
TZID:America/New_York
BEGIN:DAYLIGHT
TZOFFSETFROM:-0500
TZOFFSETTO:-0400
TZNAME:EDT
DTSTART:20260308T070000
END:DAYLIGHT
BEGIN:STANDARD
TZOFFSETFROM:-0400
TZOFFSETTO:-0500
TZNAME:EST
DTSTART:20261101T060000
END:STANDARD
END:VTIMEZONE
BEGIN:VEVENT
DTSTART;TZID=America/New_York:20260422T190000
DTEND;TZID=America/New_York:20260422T220000
DTSTAMP:20260422T044522
CREATED:20260224T131854Z
LAST-MODIFIED:20260225T011333Z
UID:197236-1776884400-1776895200@www.pianyc.net
SUMMARY:Elew Trio at Zinc Bar (Early and Late Shows)
DESCRIPTION:Showtimes: 7:00 PM and 8.30 PM | Tickets: $35 at the door.\nReservations: Not necessary. We recommend arriving 20-30 minutes before showtime to secure your seat.\nSeating: Available throughout the shows.\nBar Hours: Open from 5:00 PM to midnight — no cover charge to enjoy cocktails and the vibe! \nELEW TRIO \nElew – piano \nBar Filipowicz – bass \nDavid Hawkins – drums \nFresh from opening for Sting on tour\, ELEW returns to the Zinc bar with his trio to do what he does best! Get ready for a night of classic NYC Jazz! \nThis event is recurring on the following dates:\nWed\, Apr 22 at 07:00 PM\nWed\, Apr 22 at 08:30 PM
URL:https://www.pianyc.net/event/elew-trio-at-zinc-bar-early-and-late-shows-2/
LOCATION:Zinc Bar\, 82 West 3rd Street\, New York\, NY\, 10012\, United States
CATEGORIES:Live Musical Performance
ATTACH;FMTTYPE=image/jpeg:https://www.zincbar.com/wp-content/uploads/2026/01/0422_Elew_02C-scaled.jpg
GEO:40.7296714;-73.9989913
X-APPLE-STRUCTURED-LOCATION;VALUE=URI;X-ADDRESS=Zinc Bar 82 West 3rd Street New York NY 10012 United States;X-APPLE-RADIUS=500;X-TITLE=82 West 3rd Street:geo:-73.9989913,40.7296714
END:VEVENT
END:VCALENDAR