BEGIN:VCALENDAR
VERSION:2.0
PRODID:-//PIANYC - ECPv5.12.4//NONSGML v1.0//EN
CALSCALE:GREGORIAN
METHOD:PUBLISH
X-WR-CALNAME:PIANYC
X-ORIGINAL-URL:https://www.pianyc.net
X-WR-CALDESC:Events for PIANYC
BEGIN:VTIMEZONE
TZID:America/New_York
BEGIN:DAYLIGHT
TZOFFSETFROM:-0500
TZOFFSETTO:-0400
TZNAME:EDT
DTSTART:20240310T070000
END:DAYLIGHT
BEGIN:STANDARD
TZOFFSETFROM:-0400
TZOFFSETTO:-0500
TZNAME:EST
DTSTART:20241103T060000
END:STANDARD
END:VTIMEZONE
BEGIN:VEVENT
DTSTART;TZID=America/New_York:20241119T193000
DTEND;TZID=America/New_York:20241119T203000
DTSTAMP:20260420T104550
CREATED:20241108T012121Z
LAST-MODIFIED:20241108T023051Z
UID:173678-1732044600-1732048200@www.pianyc.net
SUMMARY:Echoes of Latin América with Guilherme Andreas (Flute) and Richard Steinbach (Piano) at the DiMenna Center for Classical Music
DESCRIPTION:Welcome to Echoes of Latin América: A Classical Music Journey for Flute and Piano! Join for an enchanting evening of music at The DiMenna Center for Classical Music – Carry Hall. Immerse yourself in the rich and vibrant sounds of Latin American classical music performed by talented musicians on flute and piano. Let the melodies transport you to the heart of Brazil\, Argentina and Cuba! as you experience the beauty and passion of this musical journey. Don’t miss this unique opportunity to enjoy a captivating performance in a stunning venue. Get ready to be swept away by the echoes of Latin America! Don’t miss it! \nGuilherme Andreas\, flute \nRichard Steinbach\, piano \n 
URL:https://www.pianyc.net/event/echoes-of-latin-america-with-guilherme-andreas-flut-and-richard-steinbach-piano-at-the-dimenna-center-for-classical-music/
LOCATION:DiMenna Center for Classical Music\, 450 West 37th St.\, New York\, NY\, 10018\, United States
CATEGORIES:Live Musical Performance
ATTACH;FMTTYPE=image/jpeg:https://img.evbuc.com/https%3A%2F%2Fcdn.evbuc.com%2Fimages%2F881531753%2F215532744521%2F1%2Foriginal.20241023-135053?crop=focalpoint&fit=crop&w=1000&auto=format%2Ccompress&q=75&sharp=10&fp-x=0.520833333333&fp-y=0.127142857143&s=9656c14a441d148da906223841ceac67
GEO:40.7560618;-73.997348
X-APPLE-STRUCTURED-LOCATION;VALUE=URI;X-ADDRESS=DiMenna Center for Classical Music 450 West 37th St. New York NY 10018 United States;X-APPLE-RADIUS=500;X-TITLE=450 West 37th St.:geo:-73.997348,40.7560618
END:VEVENT
END:VCALENDAR