BEGIN:VCALENDAR
VERSION:2.0
PRODID:-//PIANYC - ECPv5.12.4//NONSGML v1.0//EN
CALSCALE:GREGORIAN
METHOD:PUBLISH
X-WR-CALNAME:PIANYC
X-ORIGINAL-URL:https://www.pianyc.net
X-WR-CALDESC:Events for PIANYC
BEGIN:VTIMEZONE
TZID:America/New_York
BEGIN:DAYLIGHT
TZOFFSETFROM:-0500
TZOFFSETTO:-0400
TZNAME:EDT
DTSTART:20240310T070000
END:DAYLIGHT
BEGIN:STANDARD
TZOFFSETFROM:-0400
TZOFFSETTO:-0500
TZNAME:EST
DTSTART:20241103T060000
END:STANDARD
END:VTIMEZONE
BEGIN:VEVENT
DTSTART;TZID=America/New_York:20240804T180000
DTEND;TZID=America/New_York:20240804T193000
DTSTAMP:20260423T060613
CREATED:20240624T023027Z
LAST-MODIFIED:20240706T195548Z
UID:167883-1722794400-1722799800@www.pianyc.net
SUMMARY:Dvořák and More at Bridgehampton Chamber Music Summer Festival
DESCRIPTION:Drama and reflection. Farrenc’s passionate and virtuosic Sextet is subdued by Pärt’s reflective meditation on Mozart’s G minor piano sonata\, K. 280\, while Dvořák’s Schuman-inspired Piano Quartet in D brings both together with grace and balance. \nAll-Bach Program\nLouise Farrenc\, Sextet for Piano and Winds in C minor\, Op. 40\nArvo Pärt\, Mozart Adagio for Piano Trio\nAntonín Dvořák\, Piano Quartet in D major\, Op. 23 \nPerformers\nMarya Martin\, flute\nJames Austin Smith\, oboe\nNanci Belmont\, bassoon\nStewart Rose\, horn\nChad Hoopes\, violin\nCong Wu\, viola\nNicholas Canellakis\, cello\nShai Wosner\, piano \nPerformance duration is approximately one hour and twenty minutes. There is no intermission. \nSince 1984\, Bridgehampton Chamber Music has brought the very best of chamber music to Long Island’s East End. From a pair of concerts over a single weekend\, to a series of concerts over 5 weeks in the summer as well as a series of concerts each spring and fall\, BCM has become one of the country’s most highly regarded chamber music organizations in the country. Each year\, some of the world’s finest chamber musicians gather in Bridgehampton to create unique musical experiences.  \n​BCMF has been lauded for its innovative programming\, and has a long history of commissioning new works.
URL:https://www.pianyc.net/event/dvorak-and-more-at-bridgehampton-chamber-music-summer-festival/
LOCATION:Bridgehampton Presbyterian Church\, 2429 Montauk Hwy\, Bridgehampton\, NY\, 11932\, United States
CATEGORIES:Live Musical Performance
ATTACH;FMTTYPE=image/webp:https://www.pianyc.net/wp-content/uploads/2024/06/bcm-2.webp
GEO:40.9359369;-72.3032534
X-APPLE-STRUCTURED-LOCATION;VALUE=URI;X-ADDRESS=Bridgehampton Presbyterian Church 2429 Montauk Hwy Bridgehampton NY 11932 United States;X-APPLE-RADIUS=500;X-TITLE=2429 Montauk Hwy:geo:-72.3032534,40.9359369
END:VEVENT
END:VCALENDAR