BEGIN:VCALENDAR
VERSION:2.0
PRODID:-//PIANYC - ECPv5.12.4//NONSGML v1.0//EN
CALSCALE:GREGORIAN
METHOD:PUBLISH
X-WR-CALNAME:PIANYC
X-ORIGINAL-URL:https://www.pianyc.net
X-WR-CALDESC:Events for PIANYC
BEGIN:VTIMEZONE
TZID:America/New_York
BEGIN:DAYLIGHT
TZOFFSETFROM:-0500
TZOFFSETTO:-0400
TZNAME:EDT
DTSTART:20250309T070000
END:DAYLIGHT
BEGIN:STANDARD
TZOFFSETFROM:-0400
TZOFFSETTO:-0500
TZNAME:EST
DTSTART:20251102T060000
END:STANDARD
END:VTIMEZONE
BEGIN:VEVENT
DTSTART;TZID=America/New_York:20250712T150000
DTEND;TZID=America/New_York:20250712T161500
DTSTAMP:20260421T051602
CREATED:20250706T160845Z
LAST-MODIFIED:20250706T162955Z
UID:183285-1752332400-1752336900@www.pianyc.net
SUMMARY:Duets for a Summer Afternoon : Opera\, Oratorio\, Art Song at Saint John’s in the Village
DESCRIPTION:PROGRAM \nVivaldi\, Laudamus Te\nHandel\, Son Nata a Lagrimar\nPergolesi\, Stabat Mater\nMonteverdi\, Pur Ti Miro\nMozart\, Ah! Perdon\nMozart\, Ah Guarda Sorella \nINTERMISSION \nPiano Interlude\nRossini\, La Pesca\nBrahms\, Die Meere\nSaint Saens\, Pastorale\nDelibes\, Lakmé\, Flower Duet \nCHAMPAGNE RECEPTION TO FOLLOW
URL:https://www.pianyc.net/event/duets-for-a-summer-afternoon-opera-oratorio-art-song-at-saint-johns-in-the-village/
LOCATION:St. John’s in the Village Episcopal Church\, 218 W 11th St\, New York\, NY\, 10014\, United States
CATEGORIES:Live Musical Performance
ATTACH;FMTTYPE=image/jpeg:https://img.evbuc.com/https%3A%2F%2Fcdn.evbuc.com%2Fimages%2F1051315293%2F94898460523%2F1%2Foriginal.20250612-010807?crop=focalpoint&fit=crop&w=1000&auto=format%2Ccompress&q=75&sharp=10&fp-x=0.005&fp-y=0.005&s=05c5c596abfb62fc2e1971718d3d84ec
GEO:40.7363047;-74.0021184
X-APPLE-STRUCTURED-LOCATION;VALUE=URI;X-ADDRESS=St. John’s in the Village Episcopal Church 218 W 11th St New York NY 10014 United States;X-APPLE-RADIUS=500;X-TITLE=218 W 11th St:geo:-74.0021184,40.7363047
END:VEVENT
END:VCALENDAR