BEGIN:VCALENDAR
VERSION:2.0
PRODID:-//PIANYC - ECPv5.12.4//NONSGML v1.0//EN
CALSCALE:GREGORIAN
METHOD:PUBLISH
X-WR-CALNAME:PIANYC
X-ORIGINAL-URL:https://www.pianyc.net
X-WR-CALDESC:Events for PIANYC
BEGIN:VTIMEZONE
TZID:America/New_York
BEGIN:DAYLIGHT
TZOFFSETFROM:-0500
TZOFFSETTO:-0400
TZNAME:EDT
DTSTART:20220313T070000
END:DAYLIGHT
BEGIN:STANDARD
TZOFFSETFROM:-0400
TZOFFSETTO:-0500
TZNAME:EST
DTSTART:20221106T060000
END:STANDARD
END:VTIMEZONE
BEGIN:VEVENT
DTSTART;TZID=America/New_York:20220925T170000
DTEND;TZID=America/New_York:20220925T183000
DTSTAMP:20260419T091628
CREATED:20220913T193219Z
LAST-MODIFIED:20220919T110140Z
UID:137811-1664125200-1664130600@www.pianyc.net
SUMMARY:Dr Yelena Grinberg Solo Recital at Grinberg Classical Salon
DESCRIPTION:Performers \nDr. Yelena Grinberg\, speaker & pianist \nProgram \nBACH – Prelude and Fugue in E Major from Well-Tempered Klavier\, Book II (1740)\nCHOPIN – Prelude in C-sharp minor\, op. 45 (1841)\nMENDELSSOHN – Prelude and Fugue in E minor\, op. 35 (1832-37)\nBRAHMS – Chorale Prelude in E Major\, op. 122\, arr. Busoni (1896)\nFRANCK – Chorale No. 3 in A minor\, FWV 40 (1890)\nBACH-BUSONI – Select Chorale Preludes (1898)\nFRANCK – Prelude\, Chorale\, and Fugue\, FWV 21 (1884)
URL:https://www.pianyc.net/event/dr-yelena-grinberg-solo-recital-at-grinberg-classical-salon/2022-09-25/
LOCATION:Grinberg Classical Salon\, Upper West Side\, New York\, NY\, United States
CATEGORIES:Live Musical Performance
ATTACH;FMTTYPE=image/jpeg:https://www.pianyc.net/wp-content/uploads/2022/09/cesarr.jpeg
GEO:40.7870106;-73.9753676
X-APPLE-STRUCTURED-LOCATION;VALUE=URI;X-ADDRESS=Grinberg Classical Salon Upper West Side New York NY United States;X-APPLE-RADIUS=500;X-TITLE=Upper West Side:geo:-73.9753676,40.7870106
END:VEVENT
END:VCALENDAR