BEGIN:VCALENDAR
VERSION:2.0
PRODID:-//PIANYC - ECPv5.12.4//NONSGML v1.0//EN
CALSCALE:GREGORIAN
METHOD:PUBLISH
X-WR-CALNAME:PIANYC
X-ORIGINAL-URL:https://www.pianyc.net
X-WR-CALDESC:Events for PIANYC
BEGIN:VTIMEZONE
TZID:America/New_York
BEGIN:DAYLIGHT
TZOFFSETFROM:-0500
TZOFFSETTO:-0400
TZNAME:EDT
DTSTART:20220313T070000
END:DAYLIGHT
BEGIN:STANDARD
TZOFFSETFROM:-0400
TZOFFSETTO:-0500
TZNAME:EST
DTSTART:20221106T060000
END:STANDARD
END:VTIMEZONE
BEGIN:VEVENT
DTSTART;TZID=America/New_York:20220909T190000
DTEND;TZID=America/New_York:20220909T203000
DTSTAMP:20260420T083952
CREATED:20220811T205621Z
LAST-MODIFIED:20220907T013855Z
UID:134994-1662750000-1662755400@www.pianyc.net
SUMMARY:Dorian Wind Quintet\, Mozart\, Bruce Adolphe\, and Karl Kramer\, at Bargemusic
DESCRIPTION:Program \n\nJ.S. Bach Organ Preludes\, arr. Mordechai Rechtm\nW.A. Mozart Serenade for Winds\, arr. Mordechai Rechtman\nBruce Adolphe In the Same Breath *World Premiere Commissioned by the Dorian Wind Quintet with a generous grant from New York State Council on the Arts\nKarl Kramer  Tuna Rap *New York Premiere
URL:https://www.pianyc.net/event/dorian-wind-quintet-mozart-bruce-adolphe-and-karl-kramer-at-bargemusic/
LOCATION:Bargemusic\, 1 Water St.\, Brooklyn\, NY\, 11201\, United States
CATEGORIES:Live Musical Performance
ATTACH;FMTTYPE=image/jpeg:https://www.dorianwindquintet.org/new/wp-content/uploads/2015/12/banner-dorian.png
GEO:40.703195;-73.9947228
X-APPLE-STRUCTURED-LOCATION;VALUE=URI;X-ADDRESS=Bargemusic 1 Water St. Brooklyn NY 11201 United States;X-APPLE-RADIUS=500;X-TITLE=1 Water St.:geo:-73.9947228,40.703195
END:VEVENT
END:VCALENDAR