BEGIN:VCALENDAR
VERSION:2.0
PRODID:-//PIANYC - ECPv5.12.4//NONSGML v1.0//EN
CALSCALE:GREGORIAN
METHOD:PUBLISH
X-WR-CALNAME:PIANYC
X-ORIGINAL-URL:https://www.pianyc.net
X-WR-CALDESC:Events for PIANYC
BEGIN:VTIMEZONE
TZID:America/New_York
BEGIN:DAYLIGHT
TZOFFSETFROM:-0500
TZOFFSETTO:-0400
TZNAME:EDT
DTSTART:20240310T070000
END:DAYLIGHT
BEGIN:STANDARD
TZOFFSETFROM:-0400
TZOFFSETTO:-0500
TZNAME:EST
DTSTART:20241103T060000
END:STANDARD
END:VTIMEZONE
BEGIN:VEVENT
DTSTART;TZID=America/New_York:20241124T153000
DTEND;TZID=America/New_York:20241124T180000
DTSTAMP:20260422T101316
CREATED:20241108T013154Z
LAST-MODIFIED:20241108T013154Z
UID:173688-1732462200-1732471200@www.pianyc.net
SUMMARY:Dear Composers at Victor Borge Concert Hall\, Scandinavia House
DESCRIPTION:MCNY Presents: DEAR COMPOSERS \nCome join for an afternoon of music at Scandinavia House! \nMCNY is thrilled to present our Fifth Annual Dear Composers Concert\, celebrating chamber works by six departed American composers in an intimate setting. \nEach year through Dear Composers\, MCNY honors and uplifts the work of 20th century American composers whose work deserves to be shared with today’s audiences. Music selections are presented in concert alongside talks and reflections by their surviving children\, spouses\, colleagues\, and friends\, giving audiences a deeper understanding and appreciation of these composers\, their work\, and their legacy. \nJoin for a day of unforgettable music! \nPROGRAM\nKatherine Hoover (1937-2018) \n\nKokopeli\, Op. 43\nThree Sketches: Piccolo and Piano\n\nBarbara York (1949-2020) \n\nA Caged Bird\n\nGeorge Walker (1922-2018)* \n\nSonata no. 1 for Violin and Piano\n\nNorman Dello Joio (1918-2008)* \n\nSalute to Scarlatti\n\nDouglas Townsend (1921-2012) \n\nTower Music\n\nSeymour Barab (1921-2014) \n\nThe Intelligent Woman’s Introduction to Opera\nSelections from Songs of Perfect Propriety (set to poems by Dorothy Parker)\nI’ll Never Go To Macy’s from Parodies\n\n*Pulitzer Prize Winner \nARTISTS \nMarie Anello (Mezzo Soprano)\, Karen Bogardus (Flute)\, Jacob Ogbu (Trombone)\, Eric Clark (Piano)\, Mara Waldman (Piano)\, Gregory T.S. Walker (Violin)\, Lori Wolf Walker (Piano)\, and more! \nSPEAKERS \nSarah Barab\, Justin Dello Joio\, Richard Goodwin\, Norman Schwab\, Jean Townsend\, and Gregory T.S. Walker
URL:https://www.pianyc.net/event/dear-composers-at-victor-borge-concert-hall-scandinavia-house/
LOCATION:Scandinavia House\, 58 Park Avenue\, New York\, NY\, 10016\, United States
CATEGORIES:Live Musical Performance
ATTACH;FMTTYPE=image/jpeg:https://img.evbuc.com/https%3A%2F%2Fcdn.evbuc.com%2Fimages%2F888997833%2F200359650174%2F1%2Foriginal.20241031-162821?crop=focalpoint&fit=crop&w=1000&auto=format%2Ccompress&q=75&sharp=10&fp-x=0.553534156156&fp-y=0.453307392996&s=d3aa78e051280feef1e14017f0564889
GEO:40.7494353;-73.9800399
X-APPLE-STRUCTURED-LOCATION;VALUE=URI;X-ADDRESS=Scandinavia House 58 Park Avenue New York NY 10016 United States;X-APPLE-RADIUS=500;X-TITLE=58 Park Avenue:geo:-73.9800399,40.7494353
END:VEVENT
END:VCALENDAR