BEGIN:VCALENDAR
VERSION:2.0
PRODID:-//PIANYC - ECPv5.12.4//NONSGML v1.0//EN
CALSCALE:GREGORIAN
METHOD:PUBLISH
X-WR-CALNAME:PIANYC
X-ORIGINAL-URL:https://www.pianyc.net
X-WR-CALDESC:Events for PIANYC
BEGIN:VTIMEZONE
TZID:America/New_York
BEGIN:DAYLIGHT
TZOFFSETFROM:-0500
TZOFFSETTO:-0400
TZNAME:EDT
DTSTART:20240310T070000
END:DAYLIGHT
BEGIN:STANDARD
TZOFFSETFROM:-0400
TZOFFSETTO:-0500
TZNAME:EST
DTSTART:20241103T060000
END:STANDARD
END:VTIMEZONE
BEGIN:VEVENT
DTSTART;TZID=America/New_York:20240625T123000
DTEND;TZID=America/New_York:20240625T140000
DTSTAMP:20260421T102620
CREATED:20240620T012630Z
LAST-MODIFIED:20240620T012630Z
UID:167648-1719318600-1719324000@www.pianyc.net
SUMMARY:Deanna Witkowski on the Upper Terrace at Bryant Park
DESCRIPTION:Come on down and swing along with the best ragtime\, stride\, and jazz musicians in town. \nMary Lou Williams Biographer\nJazz Journalists Award for Biography of the Year (2022) \nKnown for her adventurous\, engaging music that heals the soul\, pianist\, composer\, and author Deanna Witkowski moves with remarkable ease between Brazilian\, jazz\, classical\, and sacred music. Her first book\, Mary Lou Williams: Music for the Soul\, is the winner of the 2022 Jazz Journalists Association Award for Biography of the Year. Her companion recording\, Force of Nature\, remained in the top ten most-played albums on jazz radio for more than ten weeks in 2022. Earlier this year she taught a six-week course on Mary Lou Williams for Jazz at Lincoln Center’s Swing U adult education program. Witkowski is a newly-minted PhD with her degree in jazz studies from the University of Pittsburgh.
URL:https://www.pianyc.net/event/deanna-witkowski-on-the-upper-terrace-at-bryant-park-2/2024-06-25/
LOCATION:Bryant Park\, Upper Terrace\, 36 W 40th St\, New York\, NY\, 10018\, United States
CATEGORIES:Live Musical Performance
ATTACH;FMTTYPE=image/jpeg:https://www.pianyc.net/wp-content/uploads/2024/05/bryant_park_piano.jpg
GEO:40.7527864;-73.9836149
X-APPLE-STRUCTURED-LOCATION;VALUE=URI;X-ADDRESS=Bryant Park Upper Terrace 36 W 40th St New York NY 10018 United States;X-APPLE-RADIUS=500;X-TITLE=36 W 40th St:geo:-73.9836149,40.7527864
END:VEVENT
END:VCALENDAR