BEGIN:VCALENDAR
VERSION:2.0
PRODID:-//PIANYC - ECPv5.12.4//NONSGML v1.0//EN
CALSCALE:GREGORIAN
METHOD:PUBLISH
X-WR-CALNAME:PIANYC
X-ORIGINAL-URL:https://www.pianyc.net
X-WR-CALDESC:Events for PIANYC
BEGIN:VTIMEZONE
TZID:America/New_York
BEGIN:DAYLIGHT
TZOFFSETFROM:-0500
TZOFFSETTO:-0400
TZNAME:EDT
DTSTART:20240310T070000
END:DAYLIGHT
BEGIN:STANDARD
TZOFFSETFROM:-0400
TZOFFSETTO:-0500
TZNAME:EST
DTSTART:20241103T060000
END:STANDARD
END:VTIMEZONE
BEGIN:VEVENT
DTSTART;TZID=America/New_York:20240805T123000
DTEND;TZID=America/New_York:20240805T140000
DTSTAMP:20260421T115941
CREATED:20240620T014826Z
LAST-MODIFIED:20240620T014841Z
UID:167693-1722861000-1722866400@www.pianyc.net
SUMMARY:Daryl Sherman on the Upper Terrace at Bryant Park
DESCRIPTION:Come on down and swing along with the best ragtime\, stride\, and jazz musicians in town. \nRhode Island born Daryl Sherman has been a part of the New York City jazz scene since the mid-70s and she is one of the rare singing pianists equally talented in both roles. Sherman is a unique stylist with charm\, quick wit \, chemistry with her audiences and ability to make herself at home in any musical setting. From her early stints at Sinatra hang-outs like Jilly’s\, there’s hardly a jazz joint\, supper club or hotel Daryl has missed.
URL:https://www.pianyc.net/event/daryl-sherman-on-the-upper-terrace-at-bryant-park-2/2024-08-05/
LOCATION:Bryant Park\, Upper Terrace\, 36 W 40th St\, New York\, NY\, 10018\, United States
CATEGORIES:Live Musical Performance
ATTACH;FMTTYPE=image/jpeg:https://www.pianyc.net/wp-content/uploads/2024/05/bryant_park_piano.jpg
GEO:40.7527864;-73.9836149
X-APPLE-STRUCTURED-LOCATION;VALUE=URI;X-ADDRESS=Bryant Park Upper Terrace 36 W 40th St New York NY 10018 United States;X-APPLE-RADIUS=500;X-TITLE=36 W 40th St:geo:-73.9836149,40.7527864
END:VEVENT
END:VCALENDAR