BEGIN:VCALENDAR
VERSION:2.0
PRODID:-//PIANYC - ECPv5.12.4//NONSGML v1.0//EN
CALSCALE:GREGORIAN
METHOD:PUBLISH
X-WR-CALNAME:PIANYC
X-ORIGINAL-URL:https://www.pianyc.net
X-WR-CALDESC:Events for PIANYC
BEGIN:VTIMEZONE
TZID:America/New_York
BEGIN:DAYLIGHT
TZOFFSETFROM:-0500
TZOFFSETTO:-0400
TZNAME:EDT
DTSTART:20240310T070000
END:DAYLIGHT
BEGIN:STANDARD
TZOFFSETFROM:-0400
TZOFFSETTO:-0500
TZNAME:EST
DTSTART:20241103T060000
END:STANDARD
END:VTIMEZONE
BEGIN:VEVENT
DTSTART;TZID=America/New_York:20241109T190000
DTEND;TZID=America/New_York:20241109T203000
DTSTAMP:20260421T045749
CREATED:20241021T004934Z
LAST-MODIFIED:20241024T160054Z
UID:172726-1731178800-1731184200@www.pianyc.net
SUMMARY:Daniel Colalillo: Classical Keys NYC Solo Piano Recital at Klavierhaus
DESCRIPTION:Classical Keys celebrates its 5th season as Artistic Director and Pianist Daniel Colalillo presents another unique recital with a program featuring classic masterpieces along with some more modern gems. \nBach – WTC II D minor Prelude & Fugue\nSchwantner – Veiled Autumn\nJohn Adams – China Gates\nJohn Corigliano – Prelude\nErkki-Sevn Tuur – Sonata\nBrahms – Op. 117 No. 2 in B Flat Minor & Op. 76 No. 1 in F Sharp Minor\nLiszt – Dante Sonata \nTickets: Available online or Venmo/Cash at the door.\nGeneral Admissions – $20 | Student Tickets – $10\nFor student tickets & more info email: classicalkeysmusic@gmail.com \nDaniel Colalillo (MM Mannes\, BM Purchase Conservatory of Music) is a New York-based classical pianist\, renowned for his powerful performances and unique interpretations. Praised by “The New York Times\,” he has performed as a concerto soloist with orchestras and given recitals at Carnegie Hall\, Steinway Hall\, and Princeton University; and in cities such as Philadelphia\, San Francisco\, Nashville\, Toronto and Montreal. Daniel is a musician owner and serves on the council board of “Groupmuse.” As Founder and Artistic Director of “Classical Keys” he oversees a concert series in NJ and NYC\, now in its 5th season. Named “Top Piano Teacher” by Steinway & Sons\, Daniel has taught masterclasses at universities and operates a private studio in Manhattan. \nwww.danielcolalillo.com\n@daniel.colalillo
URL:https://www.pianyc.net/event/daniel-colalillo-classical-keys-nyc-solo-piano-recital-at-klavierhaus/
LOCATION:Klavierhaus\, 790 11th Avenue\, New York\, NY\, 10019\, United States
CATEGORIES:Live Musical Performance
ATTACH;FMTTYPE=image/jpeg:https://img.evbuc.com/https%3A%2F%2Fcdn.evbuc.com%2Fimages%2F864106709%2F154615316731%2F1%2Foriginal.20241001-204643?crop=focalpoint&fit=crop&w=1000&auto=format%2Ccompress&q=75&sharp=10&fp-x=0.398031404703&fp-y=0.0496108949416&s=4790b547bf6ae0277e5094789024dd79
GEO:40.7686401;-73.9922313
X-APPLE-STRUCTURED-LOCATION;VALUE=URI;X-ADDRESS=Klavierhaus 790 11th Avenue New York NY 10019 United States;X-APPLE-RADIUS=500;X-TITLE=790 11th Avenue:geo:-73.9922313,40.7686401
END:VEVENT
END:VCALENDAR