BEGIN:VCALENDAR
VERSION:2.0
PRODID:-//PIANYC - ECPv5.12.4//NONSGML v1.0//EN
CALSCALE:GREGORIAN
METHOD:PUBLISH
X-WR-CALNAME:PIANYC
X-ORIGINAL-URL:https://www.pianyc.net
X-WR-CALDESC:Events for PIANYC
BEGIN:VTIMEZONE
TZID:America/New_York
BEGIN:DAYLIGHT
TZOFFSETFROM:-0500
TZOFFSETTO:-0400
TZNAME:EDT
DTSTART:20250309T070000
END:DAYLIGHT
BEGIN:STANDARD
TZOFFSETFROM:-0400
TZOFFSETTO:-0500
TZNAME:EST
DTSTART:20251102T060000
END:STANDARD
END:VTIMEZONE
BEGIN:VEVENT
DTSTART;TZID=America/New_York:20251012T190000
DTEND;TZID=America/New_York:20251012T200000
DTSTAMP:20260423T075623
CREATED:20250706T160917Z
LAST-MODIFIED:20250714T151628Z
UID:183318-1760295600-1760299200@www.pianyc.net
SUMMARY:Cycles I: Franz Schubert: The 3 Song Cycles PART III: Schwanengesang at Roulette Intermedium
DESCRIPTION:NOTE: This ticket is only for part three of the Schubert Song Cycle Marathon. if you would like to attend all three concerts\, the best value is a opening night premium package\, which can be purchased HERE. \nPart Three of a marathon performance of all three of Schubert’s song cycles in one day\, capturing the towering genius of Lieder’s first and greatest composer. \nFranz Schubert: Schwanengesang D. 957\nGregory Feldmann\, baritone; Michael Brofman\, piano \nPre-concert lectures (6:30PM)\nDean Whiteside (Goethe-Institut) \n  \n 
URL:https://www.pianyc.net/event/cycles-i-franz-schubert-the-3-song-cycles-part-iii-schwanengesang-at-roulette-intermedium/
LOCATION:Roulette Intermedium\, 509 Atlantic Ave.\, Brooklyn\, NY\, 11217\, United States
CATEGORIES:Live Musical Performance
ATTACH;FMTTYPE=image/jpeg:https://img.evbuc.com/https%3A%2F%2Fcdn.evbuc.com%2Fimages%2F1055231713%2F590451800583%2F1%2Foriginal.20250617-210639?w=1000&auto=format%2Ccompress&q=75&sharp=10&s=79e1e00901ef8826e6013f8685b96001
GEO:40.6856169;-73.9807735
X-APPLE-STRUCTURED-LOCATION;VALUE=URI;X-ADDRESS=Roulette Intermedium 509 Atlantic Ave. Brooklyn NY 11217 United States;X-APPLE-RADIUS=500;X-TITLE=509 Atlantic Ave.:geo:-73.9807735,40.6856169
END:VEVENT
END:VCALENDAR