BEGIN:VCALENDAR
VERSION:2.0
PRODID:-//PIANYC - ECPv5.12.4//NONSGML v1.0//EN
CALSCALE:GREGORIAN
METHOD:PUBLISH
X-WR-CALNAME:PIANYC
X-ORIGINAL-URL:https://www.pianyc.net
X-WR-CALDESC:Events for PIANYC
BEGIN:VTIMEZONE
TZID:America/New_York
BEGIN:DAYLIGHT
TZOFFSETFROM:-0500
TZOFFSETTO:-0400
TZNAME:EDT
DTSTART:20220313T070000
END:DAYLIGHT
BEGIN:STANDARD
TZOFFSETFROM:-0400
TZOFFSETTO:-0500
TZNAME:EST
DTSTART:20221106T060000
END:STANDARD
END:VTIMEZONE
BEGIN:VEVENT
DTSTART;TZID=America/New_York:20221020T190000
DTEND;TZID=America/New_York:20221020T203000
DTSTAMP:20260421T063550
CREATED:20220801T190159Z
LAST-MODIFIED:20220801T190159Z
UID:129919-1666292400-1666297800@www.pianyc.net
SUMMARY:Cunmo Yin\, Arthur Rubinstein International Music Society Winner\, at Carnegie Hall
DESCRIPTION:Performers\nCunmo Yin\, Piano \nProgram\nBEETHOVEN Piano Sonata No. 3 in C Major\, Op. 2\, No. 3\nFELIX MENDELSSOHN Selections from Songs Without Words\nSCHUBERT Fantasy in C Major\, D. 760\, “Wanderer Fantasy”
URL:https://www.pianyc.net/event/cunmo-yin-arthur-rubinstein-international-music-society-winner-at-carnegie-hall/
LOCATION:Carnegie Hall\, 881 Seventh Avenue\, New York\, NY\, 10019\, United States
CATEGORIES:Live Musical Performance
ATTACH;FMTTYPE=image/jpeg:https://carnegiehall.imgix.net/-/media/CarnegieHall/Images/Events/2022-2023-Rentals/yin-cunmo.jpg
GEO:40.764938;-73.979897
X-APPLE-STRUCTURED-LOCATION;VALUE=URI;X-ADDRESS=Carnegie Hall 881 Seventh Avenue New York NY 10019 United States;X-APPLE-RADIUS=500;X-TITLE=881 Seventh Avenue:geo:-73.979897,40.764938
END:VEVENT
END:VCALENDAR