BEGIN:VCALENDAR
VERSION:2.0
PRODID:-//PIANYC - ECPv5.12.4//NONSGML v1.0//EN
CALSCALE:GREGORIAN
METHOD:PUBLISH
X-WR-CALNAME:PIANYC
X-ORIGINAL-URL:https://www.pianyc.net
X-WR-CALDESC:Events for PIANYC
BEGIN:VTIMEZONE
TZID:America/New_York
BEGIN:DAYLIGHT
TZOFFSETFROM:-0500
TZOFFSETTO:-0400
TZNAME:EDT
DTSTART:20230312T070000
END:DAYLIGHT
BEGIN:STANDARD
TZOFFSETFROM:-0400
TZOFFSETTO:-0500
TZNAME:EST
DTSTART:20231105T060000
END:STANDARD
END:VTIMEZONE
BEGIN:VEVENT
DTSTART;TZID=America/New_York:20230323T190000
DTEND;TZID=America/New_York:20230323T210000
DTSTAMP:20260422T120439
CREATED:20221219T215820Z
LAST-MODIFIED:20221219T215820Z
UID:143530-1679598000-1679605200@www.pianyc.net
SUMMARY:Crossings: Malang Jobarteh\, kora & Chelsea Randall\, Piano at Brooklyn Conservatory of Music
DESCRIPTION:Gambian kora virtuoso Malang Jobarteh and acclaimed pianist Chelsea Randall will join forces for an exciting collaboration exploring the intersections between African music and 20th and 21st century piano repertoire which draws inspiration from and incorporates elements of African rhythms and harmonies. The program will juxtapose traditional and new works for kora with piano pieces by György Ligeti\, John Cage\, Tania León\, Joshua Uzoigwe and Fred Onovwerosuoke\, and will feature the world premiere of a new composition for kora and piano written by Jobarteh and Randall. A festive reception will follow the concert. Program TBA. \nAbout The Artists: \nHailing from a distinguished lineage of Gambia kora players\, Malang Jobarteh carries on the tradition as a prolific kora performer and educator based in New York City. He has presented concerts at the Center for African Studies at Rutgers University\, Wave Hill\, Basilica Hudson\, Longwood Arts Gallery\, Northside Music Festival\, Bronx Heritage Center\, and many more. Jobarteh is a recording artist and has been featured on albums with Boubacar Diebate\, Bela Fleck and Dialy Kounda\, among others\, and was awarded an Arts Fund grant from Bronx Council for the Arts. Jobarteh also serves in many cultural functions. As a Djeli he is personally responsible for maintaining an oral history of many generations before him\, and he is called upon in countless social settings to bring people together\, sometimes to resolve disputes\, and other times to help leaders of the noble class make important decisions. His role is a complex one with many layers\, with no direct parallel in American society. \nPianist Chelsea Randall is a multifaceted artists who seeks to create dialogues between the old\, new and undiscovered as a performer and collaborator. Highlights of Chelsea’s 2022-2023 Season include the launch of American Mavericks\, a performance and commissioning project dedicated to modern Black American composers\, an accompanying US tour\, lecture/recitals at Universities including Howard\, and a forthcoming EP of newly commissioned works by leading Black women composers. In June 2021\, as part of Chelsea’s artist residency at the Box Factory in Ridgewood NY\, she gave a Juneteenth recital of sonatas by George Walker\, and during the pandemic lockdowns presented a series of livestream performances supported by Live From our Living Rooms and Music Talks featuring seldom heard works by Robert Palmer and Ruth Crawford Seeger. She is the co-founder and Director EXTENSITY Concert Series in NY which aims to promote diversity and equity in music. https://www.chelsearandall.com/
URL:https://www.pianyc.net/event/crossings-malang-jobarteh-kora-chelsea-randall-piano-at-brooklyn-conservatory-of-music/
LOCATION:Brooklyn Conservatory of Music\, 58 7th Ave\, Brooklyn\, NY\, 11217\, United States
CATEGORIES:Live Musical Performance
ATTACH;FMTTYPE=image/jpeg:https://img.evbuc.com/https%3A%2F%2Fcdn.evbuc.com%2Fimages%2F391302649%2F246259438235%2F1%2Foriginal.20221110-213615?w=1000&auto=format%2Ccompress&q=75&sharp=10&rect=0%2C156%2C1650%2C825&s=ac823c0d6652915de0af3649e2ef875a
GEO:40.6759295;-73.9747154
X-APPLE-STRUCTURED-LOCATION;VALUE=URI;X-ADDRESS=Brooklyn Conservatory of Music 58 7th Ave Brooklyn NY 11217 United States;X-APPLE-RADIUS=500;X-TITLE=58 7th Ave:geo:-73.9747154,40.6759295
END:VEVENT
END:VCALENDAR