BEGIN:VCALENDAR
VERSION:2.0
PRODID:-//PIANYC - ECPv5.12.4//NONSGML v1.0//EN
CALSCALE:GREGORIAN
METHOD:PUBLISH
X-WR-CALNAME:PIANYC
X-ORIGINAL-URL:https://www.pianyc.net
X-WR-CALDESC:Events for PIANYC
BEGIN:VTIMEZONE
TZID:America/New_York
BEGIN:DAYLIGHT
TZOFFSETFROM:-0500
TZOFFSETTO:-0400
TZNAME:EDT
DTSTART:20240310T070000
END:DAYLIGHT
BEGIN:STANDARD
TZOFFSETFROM:-0400
TZOFFSETTO:-0500
TZNAME:EST
DTSTART:20241103T060000
END:STANDARD
END:VTIMEZONE
BEGIN:VEVENT
DTSTART;TZID=America/New_York:20240613T193000
DTEND;TZID=America/New_York:20240613T213000
DTSTAMP:20260420T105545
CREATED:20240427T215003Z
LAST-MODIFIED:20240428T154332Z
UID:163220-1718307000-1718314200@www.pianyc.net
SUMMARY:CQ 2024: Amir Farsi\, flute & Maxwell Foster\, Piano at MITU580
DESCRIPTION:ChamberQUEER is thrilled to present Constellation\, our 2024 Pride Month celebration of queer community\, diversity\, and excellence in chamber music! Featuring multiple live performances and workshops every day\, ChamberQUEER 2024: Constellation runs Tuesday\, June 11 through Sunday\, June 16 at MITU580. \nEVENT DETAILS \nEric Umble and Tori Cheah present a long-duration piece for clarinet and electronics installed in the theater that will foster a welcoming communal space and allow audiences a meditative\, come-and-go-as-you-are experience. The evening will evolve into a disco dance party DJ’ed by Eric beginning around 8:30 PM. \nEric Umble is a versatile\, award winning clarinetist hailed as “lovely” by New York Arts\, and known for his “… nuanced and coloristic playing” (The Clarinet). Eric enjoys a diverse international career as a soloist\, chamber musician\, orchestral player\, and music educator. An advocate for and avid performer of contemporary music\, he is founding member of SoundMind\, sTem\, DuoHelix\, Wavefield\, and Pink Noise ensembles; all champion music by living composers. \nVictoria Cheah is a composer whose work concerns boundaries\, transitions\, sustained effort\, and intimacies within social-performance rituals. Her work has been commissioned and/or featured by ensembles and presenters including Talujon\, Either/Or\, Non-Event\, Switch Ensemble\, Line Upon Line\, Han Chen\, andPlay\, Yarn/Wire\, Wavefield Ensemble\, MATA Festival\, Guerilla Opera\, Ensemble Dal Niente\, Vertixe Sonora\, Marilyn Nonken\, PRISM Quartet\, and performed by many others.
URL:https://www.pianyc.net/event/cq-2024-amir-farsi-flute-maxwell-foster-piano-at-mitu580/
LOCATION:MITU580\, New York\, NY\, United States
CATEGORIES:Live Musical Performance
ATTACH;FMTTYPE=image/jpeg:https://img.evbuc.com/https%3A%2F%2Fcdn.evbuc.com%2Fimages%2F751442149%2F2121900008713%2F1%2Foriginal.20240424-160051?w=1000&auto=format%2Ccompress&q=75&sharp=10&rect=0%2C0%2C2210%2C1105&s=be6f9dce48f9005c7b6803abe9a4c64b
GEO:40.7127753;-74.0059728
END:VEVENT
END:VCALENDAR