BEGIN:VCALENDAR
VERSION:2.0
PRODID:-//PIANYC - ECPv5.12.4//NONSGML v1.0//EN
CALSCALE:GREGORIAN
METHOD:PUBLISH
X-WR-CALNAME:PIANYC
X-ORIGINAL-URL:https://www.pianyc.net
X-WR-CALDESC:Events for PIANYC
BEGIN:VTIMEZONE
TZID:America/New_York
BEGIN:DAYLIGHT
TZOFFSETFROM:-0500
TZOFFSETTO:-0400
TZNAME:EDT
DTSTART:20240310T070000
END:DAYLIGHT
BEGIN:STANDARD
TZOFFSETFROM:-0400
TZOFFSETTO:-0500
TZNAME:EST
DTSTART:20241103T060000
END:STANDARD
END:VTIMEZONE
BEGIN:VEVENT
DTSTART;TZID=America/New_York:20241208T193000
DTEND;TZID=America/New_York:20241208T223000
DTSTAMP:20260420T091235
CREATED:20241109T204413Z
LAST-MODIFIED:20241109T204413Z
UID:173881-1733686200-1733697000@www.pianyc.net
SUMMARY:Cory Henry (Early & Late Shows)\, at Blue Note Jazz Club
DESCRIPTION:Early – 8pm (Doors 6pm) \nLate – 10:30pm (Doors 10pm) \nSimply put Cory Henry is a Grammy Award Winning Artist\, Composer\, Producer\, Multi-instrumentalist\, all around keyboard master\, and is the future of music! \nIn 2021\, Cory’s album Something to Say was nominated at the 2022 Grammy Awards for Best Progressive Album and as a co-writer and producer on Kanye West’s Donda and Eric Bellinger’s New Light. Other collaborations include: Imagine Dragons\, Rosalia\, Smino\, Lucky Daye\, and many more.Cory was previously a member of Snarky Puppy\, and during his time in the band he garnered three Grammy Awards! \nMost recently Cory’s latest masterpiece\, Operation Funk\, has garnered attention from fans all over the world as he delivered sold out shows in Israel\, Spain\, Amsterdam\, Australia\, and throughout the United States along with playing most of the major music festivals.
URL:https://www.pianyc.net/event/cory-henry-early-late-shows-at-blue-note-jazz-club/2024-12-08/
LOCATION:Blue Note\, 131 W 3rd St\, New York\, NY\, 10012\, United States
CATEGORIES:Live Musical Performance
ATTACH;FMTTYPE=image/jpeg:https://i.ticketweb.com/i/00/12/31/09/03_Edp.jpg?v=17
GEO:40.7309369;-74.0006335
X-APPLE-STRUCTURED-LOCATION;VALUE=URI;X-ADDRESS=Blue Note 131 W 3rd St New York NY 10012 United States;X-APPLE-RADIUS=500;X-TITLE=131 W 3rd St:geo:-74.0006335,40.7309369
END:VEVENT
END:VCALENDAR