BEGIN:VCALENDAR
VERSION:2.0
PRODID:-//PIANYC - ECPv5.12.4//NONSGML v1.0//EN
CALSCALE:GREGORIAN
METHOD:PUBLISH
X-WR-CALNAME:PIANYC
X-ORIGINAL-URL:https://www.pianyc.net
X-WR-CALDESC:Events for PIANYC
BEGIN:VTIMEZONE
TZID:America/New_York
BEGIN:DAYLIGHT
TZOFFSETFROM:-0500
TZOFFSETTO:-0400
TZNAME:EDT
DTSTART:20230312T070000
END:DAYLIGHT
BEGIN:STANDARD
TZOFFSETFROM:-0400
TZOFFSETTO:-0500
TZNAME:EST
DTSTART:20231105T060000
END:STANDARD
END:VTIMEZONE
BEGIN:VEVENT
DTSTART;TZID=America/New_York:20230318T193000
DTEND;TZID=America/New_York:20230318T210000
DTSTAMP:20260421T065049
CREATED:20221106T014832Z
LAST-MODIFIED:20221106T014832Z
UID:140413-1679167800-1679173200@www.pianyc.net
SUMMARY:"CONTRASTS IV:  Elements" at Old Stone House of Brooklyn
DESCRIPTION:​Please note the COVID-19 safety policy for PhiloSonia concerts at the Old Stone House : \n\n\n\nBecause of the interactive nature of our exhibit\, face masks are required for all visitors over age 2 at all times during your visit to the Old Stone House. If you do not have a mask\, OSH will provide one. All OSH staff members are fully vaccinated.\n\n\n\n=====================================\n“CONTRASTS IV: Elements” | Saturday\, March 18\, 7:30p.m.\nOld Stone House of Brooklyn | 336 3rd St\, Brooklyn\, NY 11215 \nPhiloSonia Artists: Yezu Elizabeth Woo\, violin| Stanichka Dimitrova violin | Chieh-Fan Yiu\, viola | Moran Katz\, clarinet | Jessica Xylina Osborne\, piano \nProgram: B. Bartok\, J. Haydn\, Steven Snowden\, Paul Wiancko \n:: View FULL PROGRAM ::
URL:https://www.pianyc.net/event/contrasts-iv-elements-at-old-stone-house-of-brooklyn/
LOCATION:Old Stone House of Brooklyn\, 336 3rd Street\, New York\, NY\, NY 11215\, United States
CATEGORIES:Live Musical Performance
ATTACH;FMTTYPE=image/jpeg:https://img.evbuc.com/https%3A%2F%2Fcdn.evbuc.com%2Fimages%2F369201279%2F316968672205%2F1%2Foriginal.20221007-152418?w=1000&auto=format%2Ccompress&q=75&sharp=10&rect=98%2C0%2C624%2C312&s=31855524a8b1c0a41bdae1c03fc6339d
GEO:40.6730021;-73.9845869
X-APPLE-STRUCTURED-LOCATION;VALUE=URI;X-ADDRESS=Old Stone House of Brooklyn 336 3rd Street New York NY NY 11215 United States;X-APPLE-RADIUS=500;X-TITLE=336 3rd Street:geo:-73.9845869,40.6730021
END:VEVENT
END:VCALENDAR