BEGIN:VCALENDAR
VERSION:2.0
PRODID:-//PIANYC - ECPv5.12.4//NONSGML v1.0//EN
CALSCALE:GREGORIAN
METHOD:PUBLISH
X-WR-CALNAME:PIANYC
X-ORIGINAL-URL:https://www.pianyc.net
X-WR-CALDESC:Events for PIANYC
BEGIN:VTIMEZONE
TZID:America/New_York
BEGIN:DAYLIGHT
TZOFFSETFROM:-0500
TZOFFSETTO:-0400
TZNAME:EDT
DTSTART:20250309T070000
END:DAYLIGHT
BEGIN:STANDARD
TZOFFSETFROM:-0400
TZOFFSETTO:-0500
TZNAME:EST
DTSTART:20251102T060000
END:STANDARD
END:VTIMEZONE
BEGIN:VEVENT
DTSTART;TZID=America/New_York:20250309T150000
DTEND;TZID=America/New_York:20250309T163000
DTSTAMP:20260421T081148
CREATED:20250208T155832Z
LAST-MODIFIED:20250208T155832Z
UID:177087-1741532400-1741537800@www.pianyc.net
SUMMARY:Contrasting Voices at St. John's Episcopal Church
DESCRIPTION:GRAMMY-nominated sopano Laura Strickling returns to Concerts on the Slope in a variety of works\, including a set from her very own 40@40 project. \n  \nNicky Sohn: Burning (9’) \nNicky Sohn: Monument (6’) \nSelections from 40@40 (18′) \nRobert Sirota: Contrapassos (20’) \n  \nLaura Strickling\, soprano \nStephanie Liu\, violin \nMiyun Chung\, violin \nLiuh-Wen Ting\, viola \nBenjamin Larsen\, cello \nDaniel Schlosberg\, piano
URL:https://www.pianyc.net/event/contrasting-voices-at-st-johns-episcopal-church/
LOCATION:The Chapel at the Interchurch Center\, 61 Claremont Ave\, New York\, NY\, 10115\, United States
CATEGORIES:Live Musical Performance
ATTACH;FMTTYPE=image/jpeg:https://img.evbuc.com/https%3A%2F%2Fcdn.evbuc.com%2Fimages%2F927340643%2F89134966513%2F1%2Foriginal.20250104-013913?crop=focalpoint&fit=crop&w=1000&auto=format%2Ccompress&q=75&sharp=10&fp-x=0.5&fp-y=0.5&s=3a4e4c7becb91d6b56f098c24c25249c
GEO:40.7127753;-74.0059728
X-APPLE-STRUCTURED-LOCATION;VALUE=URI;X-ADDRESS=The Chapel at the Interchurch Center 61 Claremont Ave New York NY 10115 United States;X-APPLE-RADIUS=500;X-TITLE=61 Claremont Ave:geo:-74.0059728,40.7127753
END:VEVENT
END:VCALENDAR