BEGIN:VCALENDAR
VERSION:2.0
PRODID:-//PIANYC - ECPv5.12.4//NONSGML v1.0//EN
CALSCALE:GREGORIAN
METHOD:PUBLISH
X-WR-CALNAME:PIANYC
X-ORIGINAL-URL:https://www.pianyc.net
X-WR-CALDESC:Events for PIANYC
BEGIN:VTIMEZONE
TZID:America/New_York
BEGIN:DAYLIGHT
TZOFFSETFROM:-0500
TZOFFSETTO:-0400
TZNAME:EDT
DTSTART:20240310T070000
END:DAYLIGHT
BEGIN:STANDARD
TZOFFSETFROM:-0400
TZOFFSETTO:-0500
TZNAME:EST
DTSTART:20241103T060000
END:STANDARD
END:VTIMEZONE
BEGIN:VEVENT
DTSTART;TZID=America/New_York:20240211T150000
DTEND;TZID=America/New_York:20240211T180000
DTSTAMP:20260420T085138
CREATED:20230911T185605Z
LAST-MODIFIED:20230912T145708Z
UID:154600-1707663600-1707674400@www.pianyc.net
SUMMARY:Concerts on the Slope presents: New York and Paris
DESCRIPTION:Amber Evans\, soprano; Bixby Kennedy\, clarinet; Kae Nakano\, violin; Benjamin Larsen\, cello; Vicky Chow\, piano \nArthur Honegger: Sonatine for violin and cello \nBohuslav Martinu: Duo for violin and cello \nMarjorie Merryman: Elegiac Songs \nPaul Hindemith: Clarinet Quartet
URL:https://www.pianyc.net/event/concerts-on-the-slope-presents-new-york-and-paris-at-concerts-on-the-slope/
LOCATION:Concerts On The Slope\, 139 St Johns Pl\, New York\, NY\, NY 11217\, United States
CATEGORIES:Live Musical Performance
ATTACH;FMTTYPE=image/jpeg:https://img.evbuc.com/https%3A%2F%2Fcdn.evbuc.com%2Fimages%2F579767919%2F89134966513%2F1%2Foriginal.20230821-170516?w=1000&auto=format%2Ccompress&q=75&sharp=10&rect=0%2C300%2C3598%2C1799&s=7cd90dc1aed685000298d2c1cd3a1f42
GEO:40.6769165;-73.9748471
X-APPLE-STRUCTURED-LOCATION;VALUE=URI;X-ADDRESS=Concerts On The Slope 139 St Johns Pl New York NY NY 11217 United States;X-APPLE-RADIUS=500;X-TITLE=139 St Johns Pl:geo:-73.9748471,40.6769165
END:VEVENT
END:VCALENDAR