BEGIN:VCALENDAR
VERSION:2.0
PRODID:-//PIANYC - ECPv5.12.4//NONSGML v1.0//EN
CALSCALE:GREGORIAN
METHOD:PUBLISH
X-WR-CALNAME:PIANYC
X-ORIGINAL-URL:https://www.pianyc.net
X-WR-CALDESC:Events for PIANYC
BEGIN:VTIMEZONE
TZID:America/New_York
BEGIN:DAYLIGHT
TZOFFSETFROM:-0500
TZOFFSETTO:-0400
TZNAME:EDT
DTSTART:20230312T070000
END:DAYLIGHT
BEGIN:STANDARD
TZOFFSETFROM:-0400
TZOFFSETTO:-0500
TZNAME:EST
DTSTART:20231105T060000
END:STANDARD
END:VTIMEZONE
BEGIN:VEVENT
DTSTART;TZID=America/New_York:20230521T153000
DTEND;TZID=America/New_York:20230521T170000
DTSTAMP:20260420T101646
CREATED:20220919T105040Z
LAST-MODIFIED:20230520T233428Z
UID:138073-1684683000-1684688400@www.pianyc.net
SUMMARY:Concert in Honor of Andrei Sakharov at Carnegie Hall
DESCRIPTION:Performers\nGidon Kremer\, Violin\nMaxim Vengerov\, Violin\nSteven Isserlis\, Cello\nGeorgijs Osokins\, Piano\nEvgeny Kissin\, Piano\nLera Auerbach\, Piano\nEmerson String Quartet\n·· Eugene Drucker\, Violin\n·· Philip Setzer\, Violin\n·· Lawrence Dutton\, Viola\n·· Paul Watkins\, Cello \nProgram\nIGOR LOBODA Requiem\nBRAHMS Piano Sonata No. 2 in F-sharp Minor\, Op. 2\nRACHMANINOFF Prelude in G Major\, Op. 32\, No. 5\nRACHMANINOFF Étude-tableau in A Minor\nRACHMANINOFF Étude-tableau in C Major\nSHOSTAKOVICH Piano Trio No. 2\nWEINBERG Violin Sonata No. 6\, Op. 136\nDVOŘÁK Piano Quintet No. 2 in A Major\, Op. 81
URL:https://www.pianyc.net/event/concert-in-honor-of-andrei-sakharov-at-carnegie-hall/
LOCATION:Carnegie Hall\, 881 Seventh Avenue\, New York\, NY\, 10019\, United States
CATEGORIES:Live Musical Performance
ATTACH;FMTTYPE=image/jpeg:https://carnegiehall.imgix.net/-/media/CarnegieHall/Images/Events/2022-2023-CH-Presents/2023-05-21-Andrey-Sakharovs-100th-Centenary-Concert.jpg
GEO:40.764938;-73.979897
X-APPLE-STRUCTURED-LOCATION;VALUE=URI;X-ADDRESS=Carnegie Hall 881 Seventh Avenue New York NY 10019 United States;X-APPLE-RADIUS=500;X-TITLE=881 Seventh Avenue:geo:-73.979897,40.764938
END:VEVENT
END:VCALENDAR