BEGIN:VCALENDAR
VERSION:2.0
PRODID:-//PIANYC - ECPv5.12.4//NONSGML v1.0//EN
CALSCALE:GREGORIAN
METHOD:PUBLISH
X-WR-CALNAME:PIANYC
X-ORIGINAL-URL:https://www.pianyc.net
X-WR-CALDESC:Events for PIANYC
BEGIN:VTIMEZONE
TZID:America/New_York
BEGIN:DAYLIGHT
TZOFFSETFROM:-0500
TZOFFSETTO:-0400
TZNAME:EDT
DTSTART:20230312T070000
END:DAYLIGHT
BEGIN:STANDARD
TZOFFSETFROM:-0400
TZOFFSETTO:-0500
TZNAME:EST
DTSTART:20231105T060000
END:STANDARD
END:VTIMEZONE
BEGIN:VEVENT
DTSTART;TZID=America/New_York:20231001T160000
DTEND;TZID=America/New_York:20231001T173000
DTSTAMP:20260423T061016
CREATED:20230819T152124Z
LAST-MODIFIED:20230822T160511Z
UID:153737-1696176000-1696181400@www.pianyc.net
SUMMARY:Complete Beethoven Cello and Piano Sonatas: Julian Schwarz and Marika Bournaki\, at Bargemusic
DESCRIPTION:COMPLETE BEETHOVEN CELLO AND PIANO SONATAS. PART 2 \n\n\nSonata in F Major\, Op. 5 No. 1 \n\n\nSonata in C Major\, Op. 102 No. 1 \n\n\nSonata in D Major\, Op. 102 No. 2 \n\n\nJulian Schwarz\, cello \nMarika Bournaki\, piano
URL:https://www.pianyc.net/event/complete-beethoven-cello-and-piano-sonatas-part-2-julian-schwarz-and-marika-bournaki-at-bargemusic/
LOCATION:Bargemusic\, 1 Water St.\, Brooklyn\, NY\, 11201\, United States
CATEGORIES:Live Musical Performance
ATTACH;FMTTYPE=image/jpeg:https://www.su.edu/faculty-staff/files/2021/07/MarikaBournaki02.jpg
GEO:40.703195;-73.9947228
X-APPLE-STRUCTURED-LOCATION;VALUE=URI;X-ADDRESS=Bargemusic 1 Water St. Brooklyn NY 11201 United States;X-APPLE-RADIUS=500;X-TITLE=1 Water St.:geo:-73.9947228,40.703195
END:VEVENT
END:VCALENDAR