BEGIN:VCALENDAR
VERSION:2.0
PRODID:-//PIANYC - ECPv5.12.4//NONSGML v1.0//EN
CALSCALE:GREGORIAN
METHOD:PUBLISH
X-WR-CALNAME:PIANYC
X-ORIGINAL-URL:https://www.pianyc.net
X-WR-CALDESC:Events for PIANYC
BEGIN:VTIMEZONE
TZID:America/New_York
BEGIN:DAYLIGHT
TZOFFSETFROM:-0500
TZOFFSETTO:-0400
TZNAME:EDT
DTSTART:20230312T070000
END:DAYLIGHT
BEGIN:STANDARD
TZOFFSETFROM:-0400
TZOFFSETTO:-0500
TZNAME:EST
DTSTART:20231105T060000
END:STANDARD
END:VTIMEZONE
BEGIN:VEVENT
DTSTART;TZID=America/New_York:20230321T190000
DTEND;TZID=America/New_York:20230321T190000
DTSTAMP:20260420T062348
CREATED:20230101T231522Z
LAST-MODIFIED:20230102T151232Z
UID:144182-1679425200-1679425200@www.pianyc.net
SUMMARY:Piano Jazz Series: Marc Copland at Zinc
DESCRIPTION:Acclaimed jazz pianist Marc Copland brings his trio to the Zinc for a splendid evening of jazz piano on Tuesday\, March 21. He’s supported by bassist Drew Gress and drummer Billy Drummond. \nIt doesn’t seem right to think of him as an elder statesman\, but pianist and composer Marc Copland\, (born 1948) has been spinning out sounds like no other pianist since the mid-1970s. His output as a leader is staggering: over 40 critically acclaimed CDs in solos\, duos\, trios\, quartets\, and quintets. The albums\, recorded for over ten different labels\, feature major jazz voices of the past and present: John Abercrombie\, Ralph Alessi\, Joey Baron\, Mike Brecker\, Randy Brecker\, Dennis Chambers\, Mark Ferber\, Billy Hart\, Dave Liebman\, Victor Lewis\, Joe Lovano\, Greg Osby\, Gary Peacock\, Bill Stewart\, Robin Verheyen\, Ken Wheeler\, and others. But if you were thinking of Copland as an older musician who has slowed down\, stopped developing\, and simply resting on his laurels—you couldn’t be more wrong. “I’ve never seen anything like this\,” says saxophonist Robin Verheyen. “He’s an inspiration\, coming up with new ideas and new sounds all the time. It’s the kind of energy and growth you’d expect from someone in the prime of their creative life. And he’s not only a major voice with such a distinctive sound and approach—you won’t find a better accompanist anywhere.” After years of recording for many of the world’s finest labels (Challenge\, ECM\, Hatology\, \Nagel-Heyer\, Pirouet\, Savoy\, Sketch\, Soul Note\, etc.)\, Copland took the plunge in 2016 and started his own label. The pianist’s foray into the record business has grown every year\, bucking the general downward trend of cd sales. His latest release\, John (illusions / mirage)\, has received Down Beat magazine’s “Editor’s Pick”\, CHOC from Jazz Magazine (France)\, “CD of the Month” from Stereoplay (Germany)\, and five stars from both Rondo (Germany) and Neu Zuricher Zeitung (Switzerland). Dan McClenaghan of allaboutjazz.com put it succinctly: “Copland is a genius…he creates the loveliest of sounds.” The respected blog jazzstation awarded him “#1 Acoustic Pianist of the Year” for 2020. For his magical touch\, Jazz Thing (Germany) years ago simply dubbed him “the piano whisperer.”
URL:https://www.pianyc.net/event/clone-piano-jazz-series-marc-copland-at-zinc/2023-03-21/
LOCATION:Zinc Bar\, 82 West 3rd Street\, New York\, NY\, 10012\, United States
CATEGORIES:Live Musical Performance
ATTACH;FMTTYPE=:
GEO:40.7296714;-73.9989913
X-APPLE-STRUCTURED-LOCATION;VALUE=URI;X-ADDRESS=Zinc Bar 82 West 3rd Street New York NY 10012 United States;X-APPLE-RADIUS=500;X-TITLE=82 West 3rd Street:geo:-73.9989913,40.7296714
END:VEVENT
END:VCALENDAR