BEGIN:VCALENDAR
VERSION:2.0
PRODID:-//PIANYC - ECPv5.12.4//NONSGML v1.0//EN
CALSCALE:GREGORIAN
METHOD:PUBLISH
X-WR-CALNAME:PIANYC
X-ORIGINAL-URL:https://www.pianyc.net
X-WR-CALDESC:Events for PIANYC
BEGIN:VTIMEZONE
TZID:America/New_York
BEGIN:DAYLIGHT
TZOFFSETFROM:-0500
TZOFFSETTO:-0400
TZNAME:EDT
DTSTART:20250309T070000
END:DAYLIGHT
BEGIN:STANDARD
TZOFFSETFROM:-0400
TZOFFSETTO:-0500
TZNAME:EST
DTSTART:20251102T060000
END:STANDARD
END:VTIMEZONE
BEGIN:VEVENT
DTSTART;TZID=America/New_York:20250418T193000
DTEND;TZID=America/New_York:20250418T210000
DTSTAMP:20260421T081127
CREATED:20241117T145354Z
LAST-MODIFIED:20250403T030441Z
UID:174587-1745004600-1745010000@www.pianyc.net
SUMMARY:Clayton Stephenson Solo Recital at 92Y
DESCRIPTION:“Stephenson is not just a remarkable virtuoso\, but a poet\, a dramatist\, and a master storyteller” \nGramophone \nAcclaimed young pianist Clayton Stephenson\, finalist in the Van Cliburn International Competition and a Gilmore Young Artist Award winner – past winners include Yuja Wang – joins us in his 92NY debut. Accolades pour in for Stephenson’s artistry in performances marked by technical brilliance\, an extraordinary sense of color\, and a repertoire that ranges from core classical to jazz-influenced work. Hear him as his career takes flight. \nProgram \nJ.S. Bach “Jesu\, Joy of Man’s Desiring” (arr. Hess)\nSchubert Four Impromptus\, Op. 90/D. 899\nStravinsky Three Movements from Petrushka\nArlen “Somewhere Over the Rainbow” (arr. Jarrett)\nGershwin Rhapsody in Blue \nNotes on the Program
URL:https://www.pianyc.net/event/clayton-stephenson-solo-recital-at-92y/
LOCATION:92nd Street Y\, 1395 Lexington Ave\, New York\, NY\, 10128\, United States
CATEGORIES:Live Musical Performance
ATTACH;FMTTYPE=image/jpeg:https://www.92ny.org/92streety/media/img/concerts/headshots/lg/clayton-stephenson.jpg
GEO:40.7829338;-73.9525147
X-APPLE-STRUCTURED-LOCATION;VALUE=URI;X-ADDRESS=92nd Street Y 1395 Lexington Ave New York NY 10128 United States;X-APPLE-RADIUS=500;X-TITLE=1395 Lexington Ave:geo:-73.9525147,40.7829338
END:VEVENT
END:VCALENDAR