BEGIN:VCALENDAR
VERSION:2.0
PRODID:-//PIANYC - ECPv5.12.4//NONSGML v1.0//EN
CALSCALE:GREGORIAN
METHOD:PUBLISH
X-WR-CALNAME:PIANYC
X-ORIGINAL-URL:https://www.pianyc.net
X-WR-CALDESC:Events for PIANYC
BEGIN:VTIMEZONE
TZID:America/New_York
BEGIN:DAYLIGHT
TZOFFSETFROM:-0500
TZOFFSETTO:-0400
TZNAME:EDT
DTSTART:20240310T070000
END:DAYLIGHT
BEGIN:STANDARD
TZOFFSETFROM:-0400
TZOFFSETTO:-0500
TZNAME:EST
DTSTART:20241103T060000
END:STANDARD
END:VTIMEZONE
BEGIN:VEVENT
DTSTART;TZID=America/New_York:20241103T170000
DTEND;TZID=America/New_York:20241103T193000
DTSTAMP:20260422T045503
CREATED:20241021T004506Z
LAST-MODIFIED:20241021T004506Z
UID:172720-1730653200-1730662200@www.pianyc.net
SUMMARY:CLASSIFIED: An Exclusive TriBeCa Concert Event at Stephanie Kim Gallery
DESCRIPTION:Welcome to CLASSIFIED: An Exclusive TriBeCa Concert Event! Join on Sun\, Nov 03\, 2024 at 5:00 PM for an unforgettable evening at the Stephanie Kim Gallery. \nThis exclusive concert will showcase a captivating program performed by: \nDavide de Ascaniis – Italian violin virtuoso and laureate of prestigious international competitions\nTaisiya Losmakova – Accomplished New York-based violinist\nSara de Ascaniis – Italian-German pianist bringing depth and flair to the repertoire \nThe program will include iconic masterpieces from the violin repertoire\, celebrating the brilliance of composers such as Fritz Kreisler\, Robert Schumann\, Manuel de Falla\, Alexander Markov & Niccolò Paganini. From romantic lyricism to fiery virtuosity\, this concert promises an unforgettable journey through some of the finest works ever written for violin and piano. \nThis event is made possible with the generous support of Stephanie Kim\, owner of the gallery hosting this exclusive performance.
URL:https://www.pianyc.net/event/classified-an-exclusive-tribeca-concert-event-at-stephanie-kim-gallery/
LOCATION:Stephanie Kim Gallery\, 78 Franklin St 2nd Floor\, New York\, NY\, 10013\, United States
CATEGORIES:Live Musical Performance
ATTACH;FMTTYPE=image/jpeg:https://img.evbuc.com/https%3A%2F%2Fcdn.evbuc.com%2Fimages%2F877639839%2F1087521974673%2F1%2Foriginal.20241018-003926?crop=focalpoint&fit=crop&w=1000&auto=format%2Ccompress&q=75&sharp=10&fp-x=0.5&fp-y=0.5&s=49ffed7fe56982d592f5915ce6d14b67
GEO:40.7180698;-74.0043974
X-APPLE-STRUCTURED-LOCATION;VALUE=URI;X-ADDRESS=Stephanie Kim Gallery 78 Franklin St 2nd Floor New York NY 10013 United States;X-APPLE-RADIUS=500;X-TITLE=78 Franklin St 2nd Floor:geo:-74.0043974,40.7180698
END:VEVENT
END:VCALENDAR