BEGIN:VCALENDAR
VERSION:2.0
PRODID:-//PIANYC - ECPv5.12.4//NONSGML v1.0//EN
CALSCALE:GREGORIAN
METHOD:PUBLISH
X-WR-CALNAME:PIANYC
X-ORIGINAL-URL:https://www.pianyc.net
X-WR-CALDESC:Events for PIANYC
BEGIN:VTIMEZONE
TZID:America/New_York
BEGIN:DAYLIGHT
TZOFFSETFROM:-0500
TZOFFSETTO:-0400
TZNAME:EDT
DTSTART:20250309T070000
END:DAYLIGHT
BEGIN:STANDARD
TZOFFSETFROM:-0400
TZOFFSETTO:-0500
TZNAME:EST
DTSTART:20251102T060000
END:STANDARD
END:VTIMEZONE
BEGIN:VEVENT
DTSTART;TZID=America/New_York:20251019T170000
DTEND;TZID=America/New_York:20251019T190000
DTSTAMP:20260423T045139
CREATED:20250820T010030Z
LAST-MODIFIED:20250820T010058Z
UID:185574-1760893200-1760900400@www.pianyc.net
SUMMARY:Classical Works for Clarinet and Piano at Grinberg Classical Salon
DESCRIPTION:BIXBY KENNEDY\, clarinet\nYELENA GRINBERG\, piano \nSCHUMANN – Fantasiestucke for clarinet and piano\, op. 73 (1849)\nRIES – Clarinet Sonata in G minor\, op. 29 (1809)\nREINECKE – Fantasiestucke for clarinet and piano\, op. 22 (1845)\nBRAHMS – Clarinet Sonata No. 2 in E-flat Major\, op. 120 (1893) \nTo learn more and to register\, contact Dr. Yelena Grinberg at ygpiano at gmail.com
URL:https://www.pianyc.net/event/classical-works-for-clarinet-and-piano-at-grinberg-classical-salon/2025-10-19/
LOCATION:Grinberg Classical Salon\, Upper West Side\, New York\, NY\, United States
CATEGORIES:Live Musical Performance
ATTACH;FMTTYPE=image/jpeg:https://www.pianyc.net/wp-content/uploads/2025/08/Bixby-Kennedy-Clarinet.jpg
GEO:40.7870106;-73.9753676
X-APPLE-STRUCTURED-LOCATION;VALUE=URI;X-ADDRESS=Grinberg Classical Salon Upper West Side New York NY United States;X-APPLE-RADIUS=500;X-TITLE=Upper West Side:geo:-73.9753676,40.7870106
END:VEVENT
END:VCALENDAR