BEGIN:VCALENDAR
VERSION:2.0
PRODID:-//PIANYC - ECPv5.12.4//NONSGML v1.0//EN
CALSCALE:GREGORIAN
METHOD:PUBLISH
X-WR-CALNAME:PIANYC
X-ORIGINAL-URL:https://www.pianyc.net
X-WR-CALDESC:Events for PIANYC
BEGIN:VTIMEZONE
TZID:America/New_York
BEGIN:DAYLIGHT
TZOFFSETFROM:-0500
TZOFFSETTO:-0400
TZNAME:EDT
DTSTART:20250309T070000
END:DAYLIGHT
BEGIN:STANDARD
TZOFFSETFROM:-0400
TZOFFSETTO:-0500
TZNAME:EST
DTSTART:20251102T060000
END:STANDARD
END:VTIMEZONE
BEGIN:VEVENT
DTSTART;TZID=America/New_York:20250629T140000
DTEND;TZID=America/New_York:20250629T153000
DTSTAMP:20260422T133850
CREATED:20250622T233032Z
LAST-MODIFIED:20250627T152424Z
UID:182395-1751205600-1751211000@www.pianyc.net
SUMMARY:Chopin and Mozart Piano Concertos with Alexandra Joan and Semplice Players\, at Bargemusic
DESCRIPTION:Rossini Sonata a quattro No. 4 in B-flat Major \nMozart Piano Concerto No. 12 in A Major\, K. 414 \nChopin Piano Concerto No. 1 in e minor\, Op. 11 \nwith  \nAlexandra Joan\, piano \nand Semplice Players:  \nSuliman Tekalli\, violin \nMark Chien\, violin \nColin Brookes\, viola \nPatrick Hopkins\, cello \nMilad Daniari\, double bass
URL:https://www.pianyc.net/event/chopin-and-mozart-piano-concertos-with-alexandra-joan-and-semplice-players-at-bargemusic-2/
LOCATION:Bargemusic\, 1 Water St.\, Brooklyn\, NY\, 11201\, United States
CATEGORIES:Live Musical Performance
ATTACH;FMTTYPE=image/jpeg:https://static1.squarespace.com/static/53374a5ee4b0d7d8daac7080/t/569ebbfdbe7b96b8c1a9021f/1453243397595/AJcropped.jpg
GEO:40.703195;-73.9947228
X-APPLE-STRUCTURED-LOCATION;VALUE=URI;X-ADDRESS=Bargemusic 1 Water St. Brooklyn NY 11201 United States;X-APPLE-RADIUS=500;X-TITLE=1 Water St.:geo:-73.9947228,40.703195
END:VEVENT
END:VCALENDAR