BEGIN:VCALENDAR
VERSION:2.0
PRODID:-//PIANYC - ECPv5.12.4//NONSGML v1.0//EN
CALSCALE:GREGORIAN
METHOD:PUBLISH
X-WR-CALNAME:PIANYC
X-ORIGINAL-URL:https://www.pianyc.net
X-WR-CALDESC:Events for PIANYC
BEGIN:VTIMEZONE
TZID:America/New_York
BEGIN:DAYLIGHT
TZOFFSETFROM:-0500
TZOFFSETTO:-0400
TZNAME:EDT
DTSTART:20240310T070000
END:DAYLIGHT
BEGIN:STANDARD
TZOFFSETFROM:-0400
TZOFFSETTO:-0500
TZNAME:EST
DTSTART:20241103T060000
END:STANDARD
END:VTIMEZONE
BEGIN:VEVENT
DTSTART;TZID=America/New_York:20241005T193000
DTEND;TZID=America/New_York:20241005T210000
DTSTAMP:20260422T141823
CREATED:20240815T161224Z
LAST-MODIFIED:20240815T163032Z
UID:169613-1728156600-1728162000@www.pianyc.net
SUMMARY:Chenyi Avsharian\, Violin; Rohan De Silva\, Piano; Simon Hagopian-Rogers\, Violin at Carnegie Hall
DESCRIPTION:Performers\nChenyi Avsharian\, Violin\nRohan De Silva\, Piano\nSimon Hagopian-Rogers\, Violin \nEmbodying freedom and limitlessness\, Boundless Horizon is an exploration of the connection between music and the brain. Performed by violinist Chenyi Avsharian and pianist Simon Hagopian-Rogers\, the program includes artist commentary alongside the performance showcasing how the brain processes music. \n 
URL:https://www.pianyc.net/event/chenyi-avsharian-violin-rohan-de-silva-piano-simon-hagopian-rogers-violin-at-carnegie-hall/
LOCATION:Carnegie Hall\, 881 Seventh Avenue\, New York\, NY\, 10019\, United States
CATEGORIES:Live Musical Performance
ATTACH;FMTTYPE=image/jpeg:https://www.sharmusic.com/cdn/shop/articles/NS20_19_081647_3734.jpg
GEO:40.764938;-73.979897
X-APPLE-STRUCTURED-LOCATION;VALUE=URI;X-ADDRESS=Carnegie Hall 881 Seventh Avenue New York NY 10019 United States;X-APPLE-RADIUS=500;X-TITLE=881 Seventh Avenue:geo:-73.979897,40.764938
END:VEVENT
END:VCALENDAR