BEGIN:VCALENDAR
VERSION:2.0
PRODID:-//PIANYC - ECPv5.12.4//NONSGML v1.0//EN
CALSCALE:GREGORIAN
METHOD:PUBLISH
X-WR-CALNAME:PIANYC
X-ORIGINAL-URL:https://www.pianyc.net
X-WR-CALDESC:Events for PIANYC
BEGIN:VTIMEZONE
TZID:America/New_York
BEGIN:DAYLIGHT
TZOFFSETFROM:-0500
TZOFFSETTO:-0400
TZNAME:EDT
DTSTART:20250309T070000
END:DAYLIGHT
BEGIN:STANDARD
TZOFFSETFROM:-0400
TZOFFSETTO:-0500
TZNAME:EST
DTSTART:20251102T060000
END:STANDARD
END:VTIMEZONE
BEGIN:VEVENT
DTSTART;TZID=America/New_York:20251002T123000
DTEND;TZID=America/New_York:20251002T143000
DTSTAMP:20260423T054819
CREATED:20250504T180956Z
LAST-MODIFIED:20250504T181203Z
UID:180778-1759408200-1759415400@www.pianyc.net
SUMMARY:Charlie Judkins on the Upper Terrace at Bryant Park
DESCRIPTION:A five\, six\, seven\, eight…come on down and swing along to the best ragtime\, stride\, and jazz the Big Apple has to offer. With special performances on select Thursdays and sprinkled spontaneously throughout the season. \nCharlie Judkins is a Brooklyn-born pianist specializing in Ragtime\, Traditional Jazz\, and Blues\, whose passion for early American piano styles began in childhood and deepened with a discovery of Jelly Roll Morton’s music in 2007. Mentored by notable pianists like Terry Waldo and Mike Lipskin\, Judkins has performed professionally since 2010 at public events and venues across New York City. He is also active as a silent film accompanist and contributes scores to archival animation releases\, while continuing his classical piano studies with Jeff Goldstein.
URL:https://www.pianyc.net/event/charlie-judkins-on-the-upper-terrace-at-bryant-park-3/2025-10-02/
LOCATION:Bryant Park\, Upper Terrace\, 36 W 40th St\, New York\, NY\, 10018\, United States
CATEGORIES:Live Musical Performance
ATTACH;FMTTYPE=image/jpeg:https://www.pianyc.net/wp-content/uploads/2024/05/bryant_park_piano.jpg
GEO:40.7527864;-73.9836149
X-APPLE-STRUCTURED-LOCATION;VALUE=URI;X-ADDRESS=Bryant Park Upper Terrace 36 W 40th St New York NY 10018 United States;X-APPLE-RADIUS=500;X-TITLE=36 W 40th St:geo:-73.9836149,40.7527864
END:VEVENT
END:VCALENDAR