BEGIN:VCALENDAR
VERSION:2.0
PRODID:-//PIANYC - ECPv5.12.4//NONSGML v1.0//EN
CALSCALE:GREGORIAN
METHOD:PUBLISH
X-WR-CALNAME:PIANYC
X-ORIGINAL-URL:https://www.pianyc.net
X-WR-CALDESC:Events for PIANYC
BEGIN:VTIMEZONE
TZID:America/New_York
BEGIN:DAYLIGHT
TZOFFSETFROM:-0500
TZOFFSETTO:-0400
TZNAME:EDT
DTSTART:20220313T070000
END:DAYLIGHT
BEGIN:STANDARD
TZOFFSETFROM:-0400
TZOFFSETTO:-0500
TZNAME:EST
DTSTART:20221106T060000
END:STANDARD
END:VTIMEZONE
BEGIN:VEVENT
DTSTART;TZID=America/New_York:20221029T180000
DTEND;TZID=America/New_York:20221029T193000
DTSTAMP:20260420T083715
CREATED:20220812T124009Z
LAST-MODIFIED:20220925T140614Z
UID:134986-1667066400-1667071800@www.pianyc.net
SUMMARY:Chamber Works of Modern Composers at Bargemusic
DESCRIPTION:Program \n\nJean Philippe Rameau Gavotte and Six Variations\nIrene Britton Smith Passacaglia\nBeethoven God Save The King Variations\nKareem Rousto Aleppo Songs\nChopin Selections\nSamuel Coleridge Taylor Piano Suite “Three-Fours”\, Op. 71\n\nPerformers\nKyle Walker\, Piano
URL:https://www.pianyc.net/event/chamber-works-of-modern-composers-at-bargemusic-7/
LOCATION:Bargemusic\, 1 Water St.\, Brooklyn\, NY\, 11201\, United States
CATEGORIES:Live Musical Performance
ATTACH;FMTTYPE=image/jpeg:https://www.pianyc.net/wp-content/uploads/2022/08/kyle.jpeg
GEO:40.703195;-73.9947228
X-APPLE-STRUCTURED-LOCATION;VALUE=URI;X-ADDRESS=Bargemusic 1 Water St. Brooklyn NY 11201 United States;X-APPLE-RADIUS=500;X-TITLE=1 Water St.:geo:-73.9947228,40.703195
END:VEVENT
END:VCALENDAR