BEGIN:VCALENDAR
VERSION:2.0
PRODID:-//PIANYC - ECPv5.12.4//NONSGML v1.0//EN
CALSCALE:GREGORIAN
METHOD:PUBLISH
X-WR-CALNAME:PIANYC
X-ORIGINAL-URL:https://www.pianyc.net
X-WR-CALDESC:Events for PIANYC
BEGIN:VTIMEZONE
TZID:America/New_York
BEGIN:DAYLIGHT
TZOFFSETFROM:-0500
TZOFFSETTO:-0400
TZNAME:EDT
DTSTART:20240310T070000
END:DAYLIGHT
BEGIN:STANDARD
TZOFFSETFROM:-0400
TZOFFSETTO:-0500
TZNAME:EST
DTSTART:20241103T060000
END:STANDARD
END:VTIMEZONE
BEGIN:VEVENT
DTSTART;TZID=America/New_York:20240201T193000
DTEND;TZID=America/New_York:20240201T210000
DTSTAMP:20260421T070011
CREATED:20230713T234407Z
LAST-MODIFIED:20240201T172339Z
UID:151424-1706815800-1706821200@www.pianyc.net
SUMMARY:Chamber Music Society of Lincoln Center\, Timothy Ridout & Frank Dupree
DESCRIPTION:Program\nForsyth Chanson Celtique for Viola and Piano (1905)\nFauré Elégie for Viola and Piano\, Op. 24 (1880)\nClarke Sonata for Viola and Piano (1919)\nKreisler Praeludium and Allegro (in the Style of Pugnani) for Viola and Piano (1905)\nBowen Sonata No. 1 for Viola and Piano\, Op. 18 (1907) \nPerformers\nTimothy Ridout\, Viola\nFrank Dupree\, Piano
URL:https://www.pianyc.net/event/chamber-music-society-of-lincoln-center-timothy-ridout-frank-dupree/
LOCATION:Daniel and Joanna S. Rose Studio at Lincoln Center\, 165 W. 65th Street\, New York\, NY\, 10023\, United States
CATEGORIES:Live Musical Performance
ATTACH;FMTTYPE=image/jpeg:https://www.pianyc.net/wp-content/uploads/2023/07/AOR-Timothy-Frank-020124.webp
GEO:40.774062;-73.9840819
X-APPLE-STRUCTURED-LOCATION;VALUE=URI;X-ADDRESS=Daniel and Joanna S. Rose Studio at Lincoln Center 165 W. 65th Street New York NY 10023 United States;X-APPLE-RADIUS=500;X-TITLE=165 W. 65th Street:geo:-73.9840819,40.774062
END:VEVENT
END:VCALENDAR