BEGIN:VCALENDAR
VERSION:2.0
PRODID:-//PIANYC - ECPv5.12.4//NONSGML v1.0//EN
CALSCALE:GREGORIAN
METHOD:PUBLISH
X-WR-CALNAME:PIANYC
X-ORIGINAL-URL:https://www.pianyc.net
X-WR-CALDESC:Events for PIANYC
BEGIN:VTIMEZONE
TZID:America/New_York
BEGIN:DAYLIGHT
TZOFFSETFROM:-0500
TZOFFSETTO:-0400
TZNAME:EDT
DTSTART:20240310T070000
END:DAYLIGHT
BEGIN:STANDARD
TZOFFSETFROM:-0400
TZOFFSETTO:-0500
TZNAME:EST
DTSTART:20241103T060000
END:STANDARD
END:VTIMEZONE
BEGIN:VEVENT
DTSTART;TZID=America/New_York:20241106T183000
DTEND;TZID=America/New_York:20241106T200000
DTSTAMP:20260420T085317
CREATED:20240915T230928Z
LAST-MODIFIED:20240922T195645Z
UID:171409-1730917800-1730923200@www.pianyc.net
SUMMARY:Chamber Music Society of Lincoln Center\, Schumann Quintet; Ken Noda\, Piano
DESCRIPTION:Composed in 1842\, Schuman’s “year of chamber music”\, the piano quintet is one of the most beloved pieces of the repertoire because of its unrestrained passion\, technical brilliance\, and melodic beauty. It was composed\, of course\, for his wife Clara. Join distinguished composer and public radio personality Bruce Adolphe for investigations and insights into masterworks performed during the Alice Tully Hall season. Inside Chamber Music lectures are beloved for their depth\, accessibility\, and brilliance. Each lecture is supported by live performance excerpts from the featured work. \nProgram\nRobert Schumann (1810–1856)\n\n\nQuintet in E-flat major for Piano\, Two Violins\, Viola\, and Cello\, Op. 44\n(1842) \n\n\nPerformers\n\n\n\nBruce Adolphe\nResident Lecturer and Director of Family Programs\n\n\n\n\n\nKen Noda\nPiano\n\n\n\n\n\nRichard Lin\nViolin\n\n\n\n\n\nSean Lee\nViolin\n\n\n\n\n\nNicholas Canellakis\nCello
URL:https://www.pianyc.net/event/chamber-music-society-of-lincoln-center-schumanns-quintet-in-e-flat-major-for-piano-two-violins-viola-and-cello-op-44/
LOCATION:Daniel and Joanna S. Rose Studio at Lincoln Center\, 165 W. 65th Street\, New York\, NY\, 10023\, United States
CATEGORIES:Live Musical Performance
ATTACH;FMTTYPE=image/jpeg:https://www.pianyc.net/wp-content/uploads/2024/09/CMS_110624-ICM-Schumann.jpg
GEO:40.774062;-73.9840819
X-APPLE-STRUCTURED-LOCATION;VALUE=URI;X-ADDRESS=Daniel and Joanna S. Rose Studio at Lincoln Center 165 W. 65th Street New York NY 10023 United States;X-APPLE-RADIUS=500;X-TITLE=165 W. 65th Street:geo:-73.9840819,40.774062
END:VEVENT
END:VCALENDAR