BEGIN:VCALENDAR
VERSION:2.0
PRODID:-//PIANYC - ECPv5.12.4//NONSGML v1.0//EN
CALSCALE:GREGORIAN
METHOD:PUBLISH
X-WR-CALNAME:PIANYC
X-ORIGINAL-URL:https://www.pianyc.net
X-WR-CALDESC:Events for PIANYC
BEGIN:VTIMEZONE
TZID:America/New_York
BEGIN:DAYLIGHT
TZOFFSETFROM:-0500
TZOFFSETTO:-0400
TZNAME:EDT
DTSTART:20230312T070000
END:DAYLIGHT
BEGIN:STANDARD
TZOFFSETFROM:-0400
TZOFFSETTO:-0500
TZNAME:EST
DTSTART:20231105T060000
END:STANDARD
END:VTIMEZONE
BEGIN:VEVENT
DTSTART;TZID=America/New_York:20231219T193000
DTEND;TZID=America/New_York:20231219T210000
DTSTAMP:20260421T121315
CREATED:20230714T000145Z
LAST-MODIFIED:20230714T000145Z
UID:151401-1703014200-1703019600@www.pianyc.net
SUMMARY:Chamber Music Society of Lincoln Center\, Brandenburg Concertos
DESCRIPTION:Bach’s Brandenburg Concertos stand at the pinnacle of Baroque musical art. \nPerformers\nHyeyeon Park\, Harpsichord\nStella Chen\, Violin\nAni Kavafian\, Violin\nRichard Lin\, Violin\nDaniel Phillips\, Violin/Piccolo Violin\nLawrence Dutton\, Viola\nMatthew Lipman\, Viola\nArnaud Sussmann\, Viola\nTimothy Eddy\, Cello\nMihai Marica\, Cello\nKeith Robinson\, Cello\nAnthony Manzo\, Double Bass\nDemarre McGill\, Flute\nTara Helen O’Connor\, Flute\nRandall Ellis\, Oboe\nJames Austin Smith\, Oboe\nStephen Taylor\, Oboe\nPeter Kolkay\, Bassoon\nDavid Byrd-Marrow\, Horn\nStewart Rose\, Horn\nDavid Washburn\, Trumpet
URL:https://www.pianyc.net/event/chamber-music-society-of-lincoln-center-brandenburg-concertos-9/
LOCATION:Alice Tully Hall at Lincoln Center\, 1941 Broadway\, New York\, NY\, 10023\, United States
CATEGORIES:Live Musical Performance
ATTACH;FMTTYPE=image/jpeg:https://images.squarespace-cdn.com/content/v1/619c0ee60eb62b17acb2e6c9/9d69d432-4571-4c97-b512-fc89dc1c3914/2.jpg
GEO:40.773828;-73.9830908
X-APPLE-STRUCTURED-LOCATION;VALUE=URI;X-ADDRESS=Alice Tully Hall at Lincoln Center 1941 Broadway New York NY 10023 United States;X-APPLE-RADIUS=500;X-TITLE=1941 Broadway:geo:-73.9830908,40.773828
END:VEVENT
END:VCALENDAR