BEGIN:VCALENDAR
VERSION:2.0
PRODID:-//PIANYC - ECPv5.12.4//NONSGML v1.0//EN
CALSCALE:GREGORIAN
METHOD:PUBLISH
X-WR-CALNAME:PIANYC
X-ORIGINAL-URL:https://www.pianyc.net
X-WR-CALDESC:Events for PIANYC
BEGIN:VTIMEZONE
TZID:America/New_York
BEGIN:DAYLIGHT
TZOFFSETFROM:-0500
TZOFFSETTO:-0400
TZNAME:EDT
DTSTART:20220313T070000
END:DAYLIGHT
BEGIN:STANDARD
TZOFFSETFROM:-0400
TZOFFSETTO:-0500
TZNAME:EST
DTSTART:20221106T060000
END:STANDARD
END:VTIMEZONE
BEGIN:VEVENT
DTSTART;TZID=America/New_York:20221220T193000
DTEND;TZID=America/New_York:20221220T210000
DTSTAMP:20260419T091739
CREATED:20220929T191249Z
LAST-MODIFIED:20220929T191249Z
UID:138937-1671564600-1671570000@www.pianyc.net
SUMMARY:Chamber Music Society of Lincoln Center\, Brandenburg Concertos
DESCRIPTION:Each instrumentation is unique; one memorable tune is heard after another; uplifting energy abounds; feats of virtuosity for violins\, violas\, cellos\, oboes\, trumpet\, horns and harpsichord leap from the stage. All this and more can be found in Bach’s miraculous Brandenburg Concertos. CMS’s annual performances of these works\, continually evolving with new casts of artists\, is simply a New York tradition not to be missed. \nPerformers\nShai Wosner\, Harpsichord\nAdam Barnett-Hart\, Violin\nAaron Boyd\, Violin\nBrendan Speltz\, Violin\nDaniel Phillips\, Violin/Viola\nPierre Lapointe\, Viola\nPaul Neubauer\, Viola\nSihao He\, Cello\nMihai Marica\, Cello\nBrook Speltz\, Cello\nAnthony Manzo\, Double Bass\nSooyun Kim\, Flute\nDemarre McGill\, Flute\nRandall Ellis\, Oboe\nJames Austin Smith\, Oboe\nStephen Taylor\, Oboe\nPeter Kolkay\, Bassoon\nMichelle Reed Baker\, Horn\nJulia Pilant\, Horn\nBrandon Ridenour\, Trumpet
URL:https://www.pianyc.net/event/chamber-music-society-of-lincoln-center-brandenburg-concertos-5/
LOCATION:Alice Tully Hall at Lincoln Center\, 1941 Broadway\, New York\, NY\, 10023\, United States
CATEGORIES:Live Musical Performance
ATTACH;FMTTYPE=image/jpeg:https://www.pianyc.net/wp-content/uploads/2022/09/shai.jpeg
GEO:40.773828;-73.9830908
X-APPLE-STRUCTURED-LOCATION;VALUE=URI;X-ADDRESS=Alice Tully Hall at Lincoln Center 1941 Broadway New York NY 10023 United States;X-APPLE-RADIUS=500;X-TITLE=1941 Broadway:geo:-73.9830908,40.773828
END:VEVENT
END:VCALENDAR